BEGIN:VCALENDAR
VERSION:2.0
PRODID:-//A Vértes Agoraja - ECPv4.9.13//NONSGML v1.0//EN
CALSCALE:GREGORIAN
METHOD:PUBLISH
X-WR-CALNAME:A Vértes Agoraja
X-ORIGINAL-URL:https://old.avertesagoraja.hu
X-WR-CALDESC:Events for A Vértes Agoraja
BEGIN:VTIMEZONE
TZID:Europe/Paris
BEGIN:DAYLIGHT
TZOFFSETFROM:+0100
TZOFFSETTO:+0200
TZNAME:CEST
DTSTART:20190331T010000
END:DAYLIGHT
BEGIN:STANDARD
TZOFFSETFROM:+0200
TZOFFSETTO:+0100
TZNAME:CET
DTSTART:20191027T010000
END:STANDARD
END:VTIMEZONE
BEGIN:VEVENT
DTSTART;TZID=Europe/Paris:20190318T180000
DTEND;TZID=Europe/Paris:20190318T200000
DTSTAMP:20260424T220118
CREATED:20190220T142842Z
LAST-MODIFIED:20190319T130238Z
UID:42735-1552932000-1552939200@old.avertesagoraja.hu
SUMMARY:Yao
DESCRIPTION:[vc_row][vc_column][vc_column_text] \n\n\n	\n\n        20190318_01\n\n        \n\n        \n            \n        \n\n         \n\n        \n\n            \n                \n                    ◄ Előző                \n            \n\n            \n                \n                    Következő                    ►\n                \n            \n\n            \n                Kép                1                 /                11            \n\n            \n                  \n            \n\n        \n    \n\n\n\nFrankofón Filmnapok 1. \nfrancia-szenegáli filmdráma | 120 perc | 2019 \n[/vc_column_text][/vc_column][/vc_row][vc_row][vc_column][vc_column_text]A 13 éves Yao bármit megtenne\, hogy találkozzon bálványával. Seydou Tall francia színész egy meghívásnak eleget téve utazik életében először ősei földjére\, azon belül Dakarba\, hogy reklámozza legújabb könyvét. A kisfiú rajongása megindítja a sztárt\, így hát kibújik a kötelezettségei alól\, és elhatározza\, hogy maga viszi vissza a gyereket a falujába. \nForrás: artmozi.hu\n[/vc_column_text][/vc_column][/vc_row][vc_row][vc_column width=”1/2″][vc_column_text] \n\n\nSzereplők:\nOmar Sy\nLionel Louis Base\n\n \n\n[/vc_column_text][/vc_column][vc_column width=”1/2″][vc_column_text] \n\n\nRendező:\nPhilippe Godeau\n\n \n\n[/vc_column_text][/vc_column][/vc_row][vc_row][vc_column][vc_column_text][/vc_column_text][/vc_column][/vc_row][vc_row][vc_column][vc_column_text][/vc_column_text][/vc_column][/vc_row] \n
URL:https://old.avertesagoraja.hu/program/yao/
LOCATION:A Vértes Agorája\, Szent Borbála tér 1.\, Tatabánya\, 2800\, Magyarország
CATEGORIES:Programkínálat
ATTACH;FMTTYPE=image/jpeg:https://old.avertesagoraja.hu/wp-content/uploads/2019/02/Frankofon_2019_800x400_YAO.jpg
END:VEVENT
END:VCALENDAR