BEGIN:VCALENDAR
VERSION:2.0
PRODID:-//A Vértes Agoraja - ECPv4.9.13//NONSGML v1.0//EN
CALSCALE:GREGORIAN
METHOD:PUBLISH
X-WR-CALNAME:A Vértes Agoraja
X-ORIGINAL-URL:https://old.avertesagoraja.hu
X-WR-CALDESC:Events for A Vértes Agoraja
BEGIN:VTIMEZONE
TZID:Europe/Paris
BEGIN:DAYLIGHT
TZOFFSETFROM:+0100
TZOFFSETTO:+0200
TZNAME:CEST
DTSTART:20190331T010000
END:DAYLIGHT
BEGIN:STANDARD
TZOFFSETFROM:+0200
TZOFFSETTO:+0100
TZNAME:CET
DTSTART:20191027T010000
END:STANDARD
END:VTIMEZONE
BEGIN:VEVENT
DTSTART;TZID=Europe/Paris:20190907T130000
DTEND;TZID=Europe/Paris:20190907T220000
DTSTAMP:20260425T203545
CREATED:20190621T075612Z
LAST-MODIFIED:20190829T063709Z
UID:45927-1567861200-1567893600@old.avertesagoraja.hu
SUMMARY:X. Kertvárosi Lecsó Fesztivál
DESCRIPTION:Támogatott partnerünk 2019-ben is a\n“Segítő kéz a kutyákért” Egyesület\nA lecsófőző csapatok számára a jelentkezés lezárult! \n \nFellépnek:\nBányász Mazsorett Együttes\nBindi Bollywood Tánccsoport\nTatabányai Bányász Öregtáncos Együttes \n16:45\nBUD SPENCER – TERENCE HILL\nEMLÉKZENEKAR\nBETTY LOVE\n(mert “Az éjjel soha nem érhet véget…”) \nEste nosztalgikus utcabál Jacsával. \n \nA program egész ideje alatt:\nnépi játszópark\, sport- és ügyességi játékok\, gyermekprogramok\n… és persze LECSÓ\, LECSÓ\, LECSÓ \n \nFő támogató\n\n \n34/786-096 | 30/536-8301 | kertvarosilecso@gmail.com \n  \n \n  \nA Kertvárosi Néphagyományőrző Napok (szeptember 7-21.) további programjai ITT érhetők el. \n
URL:https://old.avertesagoraja.hu/program/x-kertvarosi-lecso-fesztival/
LOCATION:Kertvárosi Bányász Művelődési Otthon\, Hadsereg u. 98.\, Tatabánya\, Komárom-Esztergom\, 2800\, Magyarország
CATEGORIES:Programkínálat
ATTACH;FMTTYPE=image/jpeg:https://old.avertesagoraja.hu/wp-content/uploads/2019/06/Lecso_2019_800x400.jpg
END:VEVENT
END:VCALENDAR