BEGIN:VCALENDAR
VERSION:2.0
PRODID:-//A Vértes Agoraja - ECPv4.9.13//NONSGML v1.0//EN
CALSCALE:GREGORIAN
METHOD:PUBLISH
X-WR-CALNAME:A Vértes Agoraja
X-ORIGINAL-URL:https://old.avertesagoraja.hu
X-WR-CALDESC:Events for A Vértes Agoraja
BEGIN:VTIMEZONE
TZID:Europe/Paris
BEGIN:DAYLIGHT
TZOFFSETFROM:+0100
TZOFFSETTO:+0200
TZNAME:CEST
DTSTART:20200329T010000
END:DAYLIGHT
BEGIN:STANDARD
TZOFFSETFROM:+0200
TZOFFSETTO:+0100
TZNAME:CET
DTSTART:20201025T010000
END:STANDARD
END:VTIMEZONE
BEGIN:VEVENT
DTSTART;TZID=Europe/Paris:20201107T100000
DTEND;TZID=Europe/Paris:20201107T200000
DTSTAMP:20260423T123054
CREATED:20201015T051054Z
LAST-MODIFIED:20201104T114925Z
UID:53087-1604743200-1604779200@old.avertesagoraja.hu
SUMMARY:VIII. Agora Koreográfus Verseny
DESCRIPTION:Kedves Érdeklődök!\nA VERSENYT LEMONDJUK\, tekintettel az újabb járványügyi rendeletekre\, s a fertőzöttek drasztikusan növekvő számára. \nKöszönjük az együttesek jelentkezését és kitartását! Sajnáljuk\, hogy az idén nem tudjuk Őket vendégül látni. Reméljük\, jövőre találkozunk! \n\n10:00-11:00 Versenyprogram I.\n13:00-14:30 Versenyprogram II.\n16:30-17:30 Versenyprogram III.\n19:00-19:30 Eredményhirdetés\n19:30-20:00 Gálaműsor – Duna Művészegyüttes: Magyar táncképek\nAz együttesek többsége hosszú kihagyás után érkezik A Vértes Agorája és az Alapítvány Tatabánya Tánckultúrájáért néptáncos seregszemléjére\, ezért a versenyt a szokottnál is nagyobb várakozás előzi meg a szakma részéről. 13 táncegyüttes lép színpadra\, többségükkel az elmúlt években már megismerkedhetett a tatabányai közönség\, de új  szereplők is bemutatkoznak Debrecenből\, Budapestről\, Budakesziről. A verseny – a korlátozó rendelkezések betarthatósága miatt – rendhagyó módon\, három részletben zajlik\, autentikus és táncszínházi koreográfiák egyaránt színpadra kerülnek a nap folyamán.  Az eredményhirdetés után különleges produkcióval – a Duna Művészegyüttes Magyar táncképek című műsorával – zárul a program. \nRésztvevők:\nAlba Regia Néptáncegyüttes | Bányász Táncegyüttes | Bem Táncegyüttes | Bojtár Táncegyüttes | Corvinus Közgáz Néptáncegyüttes | Főnix Néptáncegyüttes | Jártató Táncegyüttes | Kenderke Református AMI | Pannónia Néptáncegyüttes | Rába Néptáncegyüttes | Sáros Kompánia | Tessedik Táncegyüttes | Vasas Művészegyüttes\n\nTámogatók:\n\nMARTIN GYÖRGY NÉPTÁNCSZÖVETSÉG\n
URL:https://old.avertesagoraja.hu/program/viii-agora-koreografus-verseny/
LOCATION:A Vértes Agorája\, Szent Borbála tér 1.\, Tatabánya\, 2800\, Magyarország
CATEGORIES:Programkínálat
ATTACH;FMTTYPE=image/jpeg:https://old.avertesagoraja.hu/wp-content/uploads/2020/10/2020_koreografus_800x400_elmarad.jpg
END:VEVENT
END:VCALENDAR