BEGIN:VCALENDAR
VERSION:2.0
PRODID:-//A Vértes Agoraja - ECPv4.9.13//NONSGML v1.0//EN
CALSCALE:GREGORIAN
METHOD:PUBLISH
X-WR-CALNAME:A Vértes Agoraja
X-ORIGINAL-URL:https://old.avertesagoraja.hu
X-WR-CALDESC:Events for A Vértes Agoraja
BEGIN:VTIMEZONE
TZID:Europe/Paris
BEGIN:DAYLIGHT
TZOFFSETFROM:+0100
TZOFFSETTO:+0200
TZNAME:CEST
DTSTART:20180325T010000
END:DAYLIGHT
BEGIN:STANDARD
TZOFFSETFROM:+0200
TZOFFSETTO:+0100
TZNAME:CET
DTSTART:20181028T010000
END:STANDARD
END:VTIMEZONE
BEGIN:VEVENT
DTSTART;TZID=Europe/Paris:20181110T140000
DTEND;TZID=Europe/Paris:20181110T210000
DTSTAMP:20260425T225432
CREATED:20181015T141846Z
LAST-MODIFIED:20181113T120922Z
UID:38883-1541858400-1541883600@old.avertesagoraja.hu
SUMMARY:VI. Agora Koreográfus Verseny
DESCRIPTION:\n\n	\n\n        20181110_01\n\n        \n\n        \n            \n        \n\n         \n\n        \n\n            \n                \n                    ◄ Előző                \n            \n\n            \n                \n                    Következő                    ►\n                \n            \n\n            \n                Kép                1                 /                86            \n\n            \n                  \n            \n\n        \n    \n\n\n \nNovember 10-én ismét viseletektől lesz tarka A Vértes Agorája: jön a VI. Agora Koreográfus Verseny! Hivatásos és amatőr együttesek egy színpadon mérik össze tudásukat és méretik meg magukat a zsűri és a közönség előtt. A rendezvény nem csak a vetélkedésről szól\, fontos küldetése az egyesületek és a táncosok közötti kapcsolatépítés\, a tapasztalatcsere és nem utolsó sorban a szórakozás. Aki ellátogat a nyitott\, ingyenes programra\, az különleges koreográfiákat\, virtuóz táncosokat\, szép viseleteket láthat\, az esti gálaműsorban pedig a Fordulj Kispej Lovam produkció ”néptáncválogatottját” is megcsodálhatja. \nProgram \n14:00   Megnyitó\, versenyprogram \n\nBot-Ladozók Néptáncműhely\nELTE SEK Szökős Néptáncegyüttes\nGöncöl Táncegyüttes\nKenderke-Berzenye Táncegyüttes\nLitéri Szárazág Néptáncegyüttes\,\nMonori Strázsák Néptáncegyüttes\nRába Táncegyüttes\nRegős Táncegyüttes\nSopron Táncegyüttes\nSzőttes Kamara Néptáncegyüttes\nTatabányai Bányász Táncegyüttes\nVeszprém-Bakony Táncegyüttes\n\n19:00   Eredményhirdetés és gálaműsor (Fordulj Kispej Lovam – táncos műsor Kovács Norbert “Cimbi” és Barátai előadásában) \n20:00   Táncház \n \nA Fordulj Kispej Lovam c. előadás során a férfierő s lelkes szikra szinte felgyújtja a színpadot\, ugyanakkor ezek a táncosok érett\, kiforrott egyéniségek\, akiket nem szorít keretbe semmiféle rendezői instrukció\, semmiféle megfelelési kényszer. Ők csak táncolnak és énekelnek. És ezzel mégis elmúlt évszázadok érzéseit varázsolják közénk\, a megnyomorított nép\, a jobbágyság sanyarú sorsa ellenére mégis méltóságteljes büszkeségét; a hol katonasorsban\, hol egyéb sorsközösségben összeverődött férfiak igaz barátságát\, bajtársiasságát. \n(Berecz István) \n
URL:https://old.avertesagoraja.hu/program/vi-agora-koreografus-verseny/
LOCATION:A Vértes Agorája\, Szent Borbála tér 1.\, Tatabánya\, 2800\, Magyarország
CATEGORIES:Programkínálat
ATTACH;FMTTYPE=image/jpeg:https://old.avertesagoraja.hu/wp-content/uploads/2018/10/Koreografus-2018_800x400.jpg
END:VEVENT
END:VCALENDAR