BEGIN:VCALENDAR
VERSION:2.0
PRODID:-//A Vértes Agoraja - ECPv4.9.13//NONSGML v1.0//EN
CALSCALE:GREGORIAN
METHOD:PUBLISH
X-WR-CALNAME:A Vértes Agoraja
X-ORIGINAL-URL:https://old.avertesagoraja.hu
X-WR-CALDESC:Events for A Vértes Agoraja
BEGIN:VTIMEZONE
TZID:Europe/Helsinki
BEGIN:DAYLIGHT
TZOFFSETFROM:+0200
TZOFFSETTO:+0300
TZNAME:EEST
DTSTART:20230326T010000
END:DAYLIGHT
BEGIN:STANDARD
TZOFFSETFROM:+0300
TZOFFSETTO:+0200
TZNAME:EET
DTSTART:20231029T010000
END:STANDARD
END:VTIMEZONE
BEGIN:VEVENT
DTSTART;TZID=Europe/Helsinki:20231115T190000
DTEND;TZID=Europe/Helsinki:20231115T203000
DTSTAMP:20260425T122131
CREATED:20230926T080002Z
LAST-MODIFIED:20231010T090311Z
UID:61712-1700074800-1700080200@old.avertesagoraja.hu
SUMMARY:Válótársas
DESCRIPTION:Könnyed párkapcsolat-gazdagító előadás humorral és rögtönzéssel.\nA sokoldalú Kovács Patrícia és Ötvös András színművészek improvizációs és irányított jeleneteken keresztül mutatnak példákat arról\, hogy egy párkapcsolatban bármi megtörténhet az „Igen!”-től a „Kicsinállak!”-ig\, és mikor merre érdemes továbbindulni.\nSzórakoztató\, elgondolkodtató előadás a párkapcsolatokban előforduló helyzetekről és azok megoldásairól. \n  \nJátékmesterek:\nGönczi Dorka mediátor\nVarga Zsolt kommunikációs szakértő \n
URL:https://old.avertesagoraja.hu/program/valotarsas-2/
LOCATION:A Vértes Agorája\, Szent Borbála tér 1.\, Tatabánya\, 2800\, Magyarország
CATEGORIES:Befogadott rendezvény,Programkínálat
ATTACH;FMTTYPE=image/jpeg:https://old.avertesagoraja.hu/wp-content/uploads/2023/09/20231115_Valotarsas_800x400.jpg
END:VEVENT
END:VCALENDAR