BEGIN:VCALENDAR
VERSION:2.0
PRODID:-//A Vértes Agoraja - ECPv4.9.13//NONSGML v1.0//EN
CALSCALE:GREGORIAN
METHOD:PUBLISH
X-WR-CALNAME:A Vértes Agoraja
X-ORIGINAL-URL:https://old.avertesagoraja.hu
X-WR-CALDESC:Events for A Vértes Agoraja
BEGIN:VTIMEZONE
TZID:Europe/Paris
BEGIN:DAYLIGHT
TZOFFSETFROM:+0100
TZOFFSETTO:+0200
TZNAME:CEST
DTSTART:20180325T010000
END:DAYLIGHT
BEGIN:STANDARD
TZOFFSETFROM:+0200
TZOFFSETTO:+0100
TZNAME:CET
DTSTART:20181028T010000
END:STANDARD
END:VTIMEZONE
BEGIN:VEVENT
DTSTART;TZID=Europe/Paris:20180101T180000
DTEND;TZID=Europe/Paris:20180101T200000
DTSTAMP:20260426T023806
CREATED:20171012T095832Z
LAST-MODIFIED:20180103T065006Z
UID:27529-1514829600-1514836800@old.avertesagoraja.hu
SUMMARY:Újévi koncert - 2018
DESCRIPTION:\n\n	\n\n        20180101_01\n\n        \n\n        \n            \n        \n\n         \n\n        \n\n            \n                \n                    ◄ Előző                \n            \n\n            \n                \n                    Következő                    ►\n                \n            \n\n            \n                Kép                1                 /                39            \n\n            \n                  \n            \n\n        \n    \n\n\n \nA hagyományokhoz híven\, a 2018-as esztendő is Tatabánya Város Fúvószenekara Újévi koncertjével kezdődik A Vértes Agorájában. \nVezényel: Szabó Ferenc és Szicsó István \nSztárvendég: Elsa Valle (Kuba) \nJegyárak (korai elővételben\, december 15-ig):\nVízszintes sorok: 2.700 Ft\nEmelkedő sorok: 3.000 Ft \nJegyárak (december 16-ától):\nVízszintes sorok: 3.200 Ft (Tatabánya Kártyával 2.900 Ft)\nEmelkedő sorok: 3.500 Ft (Tatabánya Kártyával 3.100 Ft)\n \n \nBelépőjegyek kaphatók A Vértes Agorája jegypénztárában is.\nErre a rendezvényre utalványt\, valamint Cafeteria- és SZÉP Kártyát elfogadunk. Bővebb információ \n
URL:https://old.avertesagoraja.hu/program/ujevi-koncert-2018/
LOCATION:A Vértes Agorája\, Szent Borbála tér 1.\, Tatabánya\, 2800\, Magyarország
CATEGORIES:Programkínálat
ATTACH;FMTTYPE=image/jpeg:https://old.avertesagoraja.hu/wp-content/uploads/2017/10/Ujevi_2018_800x400.jpg
END:VEVENT
END:VCALENDAR