BEGIN:VCALENDAR
VERSION:2.0
PRODID:-//A Vértes Agoraja - ECPv4.9.13//NONSGML v1.0//EN
CALSCALE:GREGORIAN
METHOD:PUBLISH
X-WR-CALNAME:A Vértes Agoraja
X-ORIGINAL-URL:https://old.avertesagoraja.hu
X-WR-CALDESC:Events for A Vértes Agoraja
BEGIN:VTIMEZONE
TZID:Europe/Paris
BEGIN:DAYLIGHT
TZOFFSETFROM:+0100
TZOFFSETTO:+0200
TZNAME:CEST
DTSTART:20200329T010000
END:DAYLIGHT
BEGIN:STANDARD
TZOFFSETFROM:+0200
TZOFFSETTO:+0100
TZNAME:CET
DTSTART:20201025T010000
END:STANDARD
END:VTIMEZONE
BEGIN:VEVENT
DTSTART;TZID=Europe/Paris:20200105T160000
DTEND;TZID=Europe/Paris:20200105T173000
DTSTAMP:20260425T031633
CREATED:20191125T094833Z
LAST-MODIFIED:20200106T110149Z
UID:48746-1578240000-1578245400@old.avertesagoraja.hu
SUMMARY:Új évi koncert | Közkívánatra!
DESCRIPTION:\n\n\n    	\n        [Diavetítés indítása]\n		\n	\n			\n				\n				        \n            \n                \n            \n        \n							 \n			\n        \n				\n				        \n            \n                \n            \n        \n							 \n			\n        \n				\n				        \n            \n                \n            \n        \n							 \n			\n        \n				\n				        \n            \n                \n            \n        \n							 \n			\n        \n				\n				        \n            \n                \n            \n        \n							 \n			\n        \n				\n				        \n            \n                \n            \n        \n							 \n			\n        \n				\n				        \n            \n                \n            \n        \n							 \n			\n        \n				\n				        \n            \n                \n            \n        \n							 \n			\n        \n				\n				        \n            \n                \n            \n        \n							 \n			\n        \n				\n				        \n            \n                \n            \n        \n							 \n			\n        \n				\n				        \n            \n                \n            \n        \n							 \n			\n        \n				\n				        \n            \n                \n            \n        \n							 \n			\n        \n				\n				        \n            \n                \n            \n        \n							 \n			\n        \n				\n				        \n            \n                \n            \n        \n							 \n			\n        \n				\n				        \n            \n                \n            \n        \n							 \n			\n        \n				\n				        \n            \n                \n            \n        \n							 \n			\n        \n				\n				        \n            \n                \n            \n        \n							 \n			\n        \n				\n				        \n            \n                \n            \n        \n							 \n			\n        \n				\n				        \n            \n                \n            \n        \n							 \n			\n        \n				\n				        \n            \n                \n            \n        \n							 \n			\n        \n				\n				        \n            \n                \n            \n        \n							 \n			\n        \n				\n				        \n            \n                \n            \n        \n							 \n			\n        \n				\n				        \n            \n                \n            \n        \n							 \n			\n        \n				\n				        \n            \n                \n            \n        \n							 \n			\n        \n				\n				        \n            \n                \n            \n        \n							 \n			\n        \n				\n				        \n            \n                \n            \n        \n							 \n			\n        \n				\n				        \n            \n                \n            \n        \n							 \n			\n        \n				\n				        \n            \n                \n            \n        \n							 \n			\n        \n				\n				        \n            \n                \n            \n        \n							 \n			\n        \n				\n				        \n            \n                \n            \n        \n							 \n			\n        \n				\n				        \n            \n                \n            \n        \n							 \n			\n        \n				\n				        \n            \n                \n            \n        \n							 \n			\n        \n				\n				        \n            \n                \n            \n        \n							 \n			\n        \n				\n				        \n            \n                \n            \n        \n							 \n			\n        \n		\n		\n	1234323334►	\n\n  \nA Vértes Agorájában minden esztendő Tatabánya Város Fúvószenekara Újévi koncertjével indul. A program annyira népszerű\, hogy napok alatt elfogynak a belépőjegyek\, így sokan maradnak le a vágyott koncertélményről.  \nHogy ez megváltozzék\, idén először\, az újévi koncertet követi egy új évi is: január 5-én\, vasárnap\, 16:00 órakor. \nKözreműködik a Népház Show Formációs Tánc Egyesület\nVezényel: Szabó Ferenc és Szicsó István \n \nJegyárak:\nEmelkedő sorok:\n4.400 Ft\n4.000 Ft – Tatabánya Kártyával\nVízszintes sorok:\n3.800 Ft\n3.500 Ft – Tatabánya Kártyával\nBelépőjegyek A Vértes Agorája jegypénztárában is kaphatók.\nUtalványt\, valamint Cafeteria- és SZÉP Kártyát erre a rendezvényre elfogadunk.\nBővebb információ\n  \n \n
URL:https://old.avertesagoraja.hu/program/uj-evi-koncert-2020/
LOCATION:A Vértes Agorája\, Szent Borbála tér 1.\, Tatabánya\, 2800\, Magyarország
CATEGORIES:Programkínálat
ATTACH;FMTTYPE=image/jpeg:https://old.avertesagoraja.hu/wp-content/uploads/2019/11/Ujevi_2020_800x400.jpg
END:VEVENT
END:VCALENDAR