BEGIN:VCALENDAR
VERSION:2.0
PRODID:-//A Vértes Agoraja - ECPv4.9.13//NONSGML v1.0//EN
CALSCALE:GREGORIAN
METHOD:PUBLISH
X-WR-CALNAME:A Vértes Agoraja
X-ORIGINAL-URL:https://old.avertesagoraja.hu
X-WR-CALDESC:Events for A Vértes Agoraja
BEGIN:VTIMEZONE
TZID:Europe/Paris
BEGIN:DAYLIGHT
TZOFFSETFROM:+0100
TZOFFSETTO:+0200
TZNAME:CEST
DTSTART:20180325T010000
END:DAYLIGHT
BEGIN:STANDARD
TZOFFSETFROM:+0200
TZOFFSETTO:+0100
TZNAME:CET
DTSTART:20181028T010000
END:STANDARD
END:VTIMEZONE
BEGIN:VEVENT
DTSTART;TZID=Europe/Paris:20180125T180000
DTEND;TZID=Europe/Paris:20180125T193000
DTSTAMP:20260425T030603
CREATED:20180108T131145Z
LAST-MODIFIED:20180131T153431Z
UID:31213-1516903200-1516908600@old.avertesagoraja.hu
SUMMARY:UFo - Nyitott rezervátum
DESCRIPTION:\n\n	\n\n        20180125_01\n\n        \n\n        \n            \n        \n\n         \n\n        \n\n            \n                \n                    ◄ Előző                \n            \n\n            \n                \n                    Következő                    ►\n                \n            \n\n            \n                Kép                1                 /                30            \n\n            \n                  \n            \n\n        \n    \n\n\nAz Új Forrás folyóirat szerkesztőségi estjei 2018-ban is folytatódnak. \nElsőként Snétberger Ferenc Kossuth- és ‘Liszt Ferenc’-díjas gitárművészt és feleségét\, Angela Snétbergert szólaltatja meg Csendes Toll. \n \n \n  \n
URL:https://old.avertesagoraja.hu/program/ufo-nyitott-rezervatum-9/
LOCATION:A Vértes Agorája\, Szent Borbála tér 1.\, Tatabánya\, 2800\, Magyarország
CATEGORIES:Programkínálat
ATTACH;FMTTYPE=image/jpeg:https://old.avertesagoraja.hu/wp-content/uploads/2018/01/800x400_ufo_2018_jan.jpg
END:VEVENT
END:VCALENDAR