BEGIN:VCALENDAR
VERSION:2.0
PRODID:-//A Vértes Agoraja - ECPv4.9.13//NONSGML v1.0//EN
CALSCALE:GREGORIAN
METHOD:PUBLISH
X-WR-CALNAME:A Vértes Agoraja
X-ORIGINAL-URL:https://old.avertesagoraja.hu
X-WR-CALDESC:Events for A Vértes Agoraja
BEGIN:VTIMEZONE
TZID:Europe/Paris
BEGIN:DAYLIGHT
TZOFFSETFROM:+0100
TZOFFSETTO:+0200
TZNAME:CEST
DTSTART:20170326T010000
END:DAYLIGHT
BEGIN:STANDARD
TZOFFSETFROM:+0200
TZOFFSETTO:+0100
TZNAME:CET
DTSTART:20171029T010000
END:STANDARD
END:VTIMEZONE
BEGIN:VEVENT
DTSTART;TZID=Europe/Paris:20171219T180000
DTEND;TZID=Europe/Paris:20171219T193000
DTSTAMP:20260425T154917
CREATED:20171201T162908Z
LAST-MODIFIED:20171224T080335Z
UID:30202-1513706400-1513711800@old.avertesagoraja.hu
SUMMARY:UFo - Nyitott rezervátum
DESCRIPTION:\n\n	\n\n        20171219_01\n\n        \n\n        \n            \n        \n\n         \n\n        \n\n            \n                \n                    ◄ Előző                \n            \n\n            \n                \n                    Következő                    ►\n                \n            \n\n            \n                Kép                1                 /                27            \n\n            \n                  \n            \n\n        \n    \n\n\nKarácsonyi koncert és beszélgetés.\nAz Új Forrás folyóirat szerkesztőségi estjén a Szent Efrém Férfikar vezetőjét\, Bubnó Tamást és barátait látja vendégül Csendes Toll. \n  \n \n
URL:https://old.avertesagoraja.hu/program/ufo-nyitott-rezervatum-8/
LOCATION:A Vértes Agorája\, Szent Borbála tér 1.\, Tatabánya\, 2800\, Magyarország
CATEGORIES:Programkínálat
ATTACH;FMTTYPE=image/jpeg:https://old.avertesagoraja.hu/wp-content/uploads/2017/12/800x400_ufo_2017_dec.jpg
END:VEVENT
END:VCALENDAR