BEGIN:VCALENDAR
VERSION:2.0
PRODID:-//A Vértes Agoraja - ECPv4.9.13//NONSGML v1.0//EN
CALSCALE:GREGORIAN
METHOD:PUBLISH
X-WR-CALNAME:A Vértes Agoraja
X-ORIGINAL-URL:https://old.avertesagoraja.hu
X-WR-CALDESC:Events for A Vértes Agoraja
BEGIN:VTIMEZONE
TZID:Europe/Paris
BEGIN:DAYLIGHT
TZOFFSETFROM:+0100
TZOFFSETTO:+0200
TZNAME:CEST
DTSTART:20200329T010000
END:DAYLIGHT
BEGIN:STANDARD
TZOFFSETFROM:+0200
TZOFFSETTO:+0100
TZNAME:CET
DTSTART:20201025T010000
END:STANDARD
END:VTIMEZONE
BEGIN:VEVENT
DTSTART;TZID=Europe/Paris:20200211T180000
DTEND;TZID=Europe/Paris:20200211T193000
DTSTAMP:20260425T142723
CREATED:20200127T083534Z
LAST-MODIFIED:20200212T103824Z
UID:50735-1581444000-1581449400@old.avertesagoraja.hu
SUMMARY:UFo - Nyitott rezervátum
DESCRIPTION:\n\n\n\n 	\n\n        \n\n            \n        \n\n         \n\n\n        \n\n            \n        \n\n         \n\n\n        \n\n            \n        \n\n         \n\n\n        \n\n            \n        \n\n         \n\n\n        \n\n            \n        \n\n         \n\n\n        \n\n            \n        \n\n         \n\n\n        \n\n            \n        \n\n         \n\n\n        \n\n            \n        \n\n         \n\n\n        \n\n            \n        \n\n         \n\n\n        \n\n            \n        \n\n         \n\n\n        \n\n            \n        \n\n         \n\n\n        \n\n            \n        \n\n         \n\n\n        \n\n            \n        \n\n         \n\n\n        \n\n            \n        \n\n         \n\n\n        \n\n            \n        \n\n         \n\n\n        \n\n            \n        \n\n         \n\n\n        \n\n            \n        \n\n         \n\n\n        \n\n            \n        \n\n         \n\n\n        \n\n            \n        \n\n         \n\n\n        \n\n            \n        \n\n         \n\n\n        \n\n            \n        \n\n         \n\n\n        \n\n            \n        \n\n         \n\n\n        \n\n            \n        \n\n         \n\n\n        \n\n            \n        \n\n         \n\n\n        \n\n            \n        \n\n         \n\n\n\n		\n	\n        [Bélyegképek megjelenítése]\n	\n\n\n\nAz ÚJ Forrás folyóirat és A Vértes Agorája irodalmi-zenei programjai\nHázigazda: Jász Attila | Csendes Toll\n\nKönnyű neked\, Szarvas Józsi…\nBeszélgetés a ‘Jászai Mari’-díjas színésszel új könyve\,\na pajtaszínház\, a Tündérkert és egy csomó más dolog kapcsán \nBérczes László\, a szerzőtárs a könyv kapcsán: \n“De azt is észrevettem\, nem lehetett nem észrevenni\, hogy eredeti és pofáncsapó őszinteség árad a mondatokból\, és egyszerre zuhan ránk a szövegből a frenetikus humor és a gyomorszorító fájdalom. Az a fajta ártatlanul hiteles megszólalás\, ami Jóska színészetét is jellemzi\, fogva tartott engem. Azt az esélyt éreztem meg\, amelyet szerintem az elkészült könyv igazol is: szépirodalmi minőségű életregény születhet. A kortárs magyar irodalomban sokan nagyon jól forgatják a szavakat. De ha nincs meg a mag\, a lényeg\, akkor az egész csak ujjgyakorlat\, zsonglőrködés marad\, és felmerül a kérdés\, hogy mondott-e az író egyáltalán valamit\, vagy csak a szakmát gyakorolta. Jóska sok mindent mond. Nem üzenetről beszélek\, hanem a létezés és közlés természetességéről. Én arra a hullámra próbáltam meg ráfeküdni\, amelyet az ő csónakja vetett. Együtt haladtunk hát a célig\, a végleges szöveg megszületéséig.” \n
URL:https://old.avertesagoraja.hu/program/ufo-nyitott-rezervatum-27/
LOCATION:A Vértes Agorája\, Szent Borbála tér 1.\, Tatabánya\, 2800\, Magyarország
CATEGORIES:Programkínálat
ATTACH;FMTTYPE=image/jpeg:https://old.avertesagoraja.hu/wp-content/uploads/2020/01/UFo_2020_800x400_FEBR.jpg
END:VEVENT
END:VCALENDAR