BEGIN:VCALENDAR
VERSION:2.0
PRODID:-//A Vértes Agoraja - ECPv4.9.13//NONSGML v1.0//EN
CALSCALE:GREGORIAN
METHOD:PUBLISH
X-WR-CALNAME:A Vértes Agoraja
X-ORIGINAL-URL:https://old.avertesagoraja.hu
X-WR-CALDESC:Events for A Vértes Agoraja
BEGIN:VTIMEZONE
TZID:Europe/Paris
BEGIN:DAYLIGHT
TZOFFSETFROM:+0100
TZOFFSETTO:+0200
TZNAME:CEST
DTSTART:20190331T010000
END:DAYLIGHT
BEGIN:STANDARD
TZOFFSETFROM:+0200
TZOFFSETTO:+0100
TZNAME:CET
DTSTART:20191027T010000
END:STANDARD
END:VTIMEZONE
BEGIN:VEVENT
DTSTART;TZID=Europe/Paris:20191210T180000
DTEND;TZID=Europe/Paris:20191210T193000
DTSTAMP:20260425T144317
CREATED:20191016T110541Z
LAST-MODIFIED:20191212T065056Z
UID:47565-1576000800-1576006200@old.avertesagoraja.hu
SUMMARY:UFo - Nyitott rezervátum
DESCRIPTION:\n\n\n    	\n        [Diavetítés indítása]\n		\n	\n			\n				\n				        \n            \n                \n            \n        \n							 \n			\n        \n				\n				        \n            \n                \n            \n        \n							 \n			\n        \n				\n				        \n            \n                \n            \n        \n							 \n			\n        \n				\n				        \n            \n                \n            \n        \n							 \n			\n        \n				\n				        \n            \n                \n            \n        \n							 \n			\n        \n				\n				        \n            \n                \n            \n        \n							 \n			\n        \n				\n				        \n            \n                \n            \n        \n							 \n			\n        \n				\n				        \n            \n                \n            \n        \n							 \n			\n        \n				\n				        \n            \n                \n            \n        \n							 \n			\n        \n				\n				        \n            \n                \n            \n        \n							 \n			\n        \n				\n				        \n            \n                \n            \n        \n							 \n			\n        \n				\n				        \n            \n                \n            \n        \n							 \n			\n        \n				\n				        \n            \n                \n            \n        \n							 \n			\n        \n				\n				        \n            \n                \n            \n        \n							 \n			\n        \n				\n				        \n            \n                \n            \n        \n							 \n			\n        \n				\n				        \n            \n                \n            \n        \n							 \n			\n        \n				\n				        \n            \n                \n            \n        \n							 \n			\n        \n		\n		\n	1234151617►	\n\n  \n\n \n\nUFo – Nyitott rezervátum | Rohmann Ditta és Szőke Szabolcs \nKözzétette: A Vértes Agorája – 2019. december 11.\, szerda \n\n\nAz ÚJ Forrás folyóirat és A Vértes Agorája irodalmi-zenei programjai\nHázigazda: Jász Attila | Csendes Toll\n\nKis karácsonyi zenék\nRohmann Ditta és Szőke Szabolcs duó \nRohmann Ditta Junior Príma és Artisjus díjas csellóművész J.S.Bach és a XX. századi\, valamint mai kortárs zeneszerzők műveinek avatott és szenvedélyes tolmácsolója\, aki emellett bátran kalandozik más zenei stílusok (jazz\, világzene) irányába is. Szőke Szabolcs Artisjus díjas zeneszerzővel\, a balkáni és keleti vonós hangszerek specialistájával közösen létrehozott\, 2014 óta működő duójuk egyik ékes bizonyítéka ennek. \nTeljesen eltérő múlttal rendelkező\, más-más játéktechnikákat igénylő vonós hangszereik – cselló\, gadulka\, sarangi – együttes megszólaltatásával a két művész merőben új hangzásbeli lehetőségeket tár fel\, különleges\, egyéni ízeket adva Szőke Szabolcs kompozícióinak. A művek előadása során a két szólista gyakran él a szabad improvizáció eszközeivel is\, olykor pedig a szintén egyedi és varázslatos hangszer\, az array mbira (120 hangos kalimba) kíséretével szólal meg a cselló és Ditta énekhangja.  \nForrás: jegy.hu\n \n
URL:https://old.avertesagoraja.hu/program/ufo-nyitott-rezervatum-25/
LOCATION:A Vértes Agorája\, Szent Borbála tér 1.\, Tatabánya\, 2800\, Magyarország
CATEGORIES:Programkínálat
ATTACH;FMTTYPE=image/jpeg:https://old.avertesagoraja.hu/wp-content/uploads/2019/10/UFo_2019_DEC_800x400.jpg
END:VEVENT
END:VCALENDAR