BEGIN:VCALENDAR
VERSION:2.0
PRODID:-//A Vértes Agoraja - ECPv4.9.13//NONSGML v1.0//EN
CALSCALE:GREGORIAN
METHOD:PUBLISH
X-WR-CALNAME:A Vértes Agoraja
X-ORIGINAL-URL:https://old.avertesagoraja.hu
X-WR-CALDESC:Events for A Vértes Agoraja
BEGIN:VTIMEZONE
TZID:Europe/Paris
BEGIN:DAYLIGHT
TZOFFSETFROM:+0100
TZOFFSETTO:+0200
TZNAME:CEST
DTSTART:20190331T010000
END:DAYLIGHT
BEGIN:STANDARD
TZOFFSETFROM:+0200
TZOFFSETTO:+0100
TZNAME:CET
DTSTART:20191027T010000
END:STANDARD
END:VTIMEZONE
BEGIN:VEVENT
DTSTART;TZID=Europe/Paris:20191119T180000
DTEND;TZID=Europe/Paris:20191119T193000
DTSTAMP:20260425T124549
CREATED:20191016T081525Z
LAST-MODIFIED:20191122T084923Z
UID:47548-1574186400-1574191800@old.avertesagoraja.hu
SUMMARY:UFo - Nyitott rezervátum
DESCRIPTION:\n\n\n    	\n        [Diavetítés indítása]\n		\n	\n			\n				\n				        \n            \n                \n            \n        \n							 \n			\n        \n				\n				        \n            \n                \n            \n        \n							 \n			\n        \n				\n				        \n            \n                \n            \n        \n							 \n			\n        \n				\n				        \n            \n                \n            \n        \n							 \n			\n        \n				\n				        \n            \n                \n            \n        \n							 \n			\n        \n				\n				        \n            \n                \n            \n        \n							 \n			\n        \n				\n				        \n            \n                \n            \n        \n							 \n			\n        \n				\n				        \n            \n                \n            \n        \n							 \n			\n        \n				\n				        \n            \n                \n            \n        \n							 \n			\n        \n				\n				        \n            \n                \n            \n        \n							 \n			\n        \n				\n				        \n            \n                \n            \n        \n							 \n			\n        \n				\n				        \n            \n                \n            \n        \n							 \n			\n        \n				\n				        \n            \n                \n            \n        \n							 \n			\n        \n				\n				        \n            \n                \n            \n        \n							 \n			\n        \n				\n				        \n            \n                \n            \n        \n							 \n			\n        \n				\n				        \n            \n                \n            \n        \n							 \n			\n        \n				\n				        \n            \n                \n            \n        \n							 \n			\n        \n				\n				        \n            \n                \n            \n        \n							 \n			\n        \n				\n				        \n            \n                \n            \n        \n							 \n			\n        \n				\n				        \n            \n                \n            \n        \n							 \n			\n        \n		\n		\n	\n\n\n \n\nUFo – Nyitott rezervátum | Szaladják István \nKözzétette: A Vértes Agorája – 2019. november 22.\, péntek \n\n\nAz Új Forrás folyóirat és A Vértes Agorája irodalmi-zenei programjai\nHázigazda: Jász Attila | Csendes Toll\n\nTúlélési technikák\nBeszélgetés Szaladják István operatőr\, filmrendező\,\nzendovezető és kiadóvezetővel\nSzaladják István a hazai filmkészítők közül azon kevesek közé tartozik\, akik a spirituszt\, az elmélyülést keresik. Nem idézget\, nem önismétlő\, mégis ugyanazt a kérdést járja körül műveiben. Az élet esszenciáját\, magunk meglelését keresi. Üzenete\, hogy a legizgalmasabb út\, amelyen elindulhatunk\, bennünk található. A nagyobb közönség által ismert másfélnyi (egy rövid\,- és egy nagyjátékfilm) rendezésében ilyen utakra invitál. S annak ellenére\, hogy hálás dolog portrét írni róla\, mégis talán még elhamarkodott egy pályája elején járó operatőr-rendezőről átfogóan írni. Hiszen akárhogy nézzük\, Szaladják mégsem rendező\, hanem képember\, fotográfus\, fényfestő. Operatőr\, aki ha „érdek nélkül” filmez és saját üzenetéből is átrakhat valamit a filmbe\, akkor a stáblistára odabiggyeszti „Taikyo” szerzetesi nevét is. Mert Szaladják hírvivő\, a zen követe is egyben. \nForrás: filmkultura.hu\n
URL:https://old.avertesagoraja.hu/program/ufo-nyitott-rezervatum-24/
LOCATION:A Vértes Agorája\, Szent Borbála tér 1.\, Tatabánya\, 2800\, Magyarország
CATEGORIES:Programkínálat
ATTACH;FMTTYPE=image/jpeg:https://old.avertesagoraja.hu/wp-content/uploads/2019/10/UFo_2019_NOV_800x400.jpg
END:VEVENT
END:VCALENDAR