BEGIN:VCALENDAR
VERSION:2.0
PRODID:-//A Vértes Agoraja - ECPv4.9.13//NONSGML v1.0//EN
CALSCALE:GREGORIAN
METHOD:PUBLISH
X-WR-CALNAME:A Vértes Agoraja
X-ORIGINAL-URL:https://old.avertesagoraja.hu
X-WR-CALDESC:Events for A Vértes Agoraja
BEGIN:VTIMEZONE
TZID:Europe/Paris
BEGIN:DAYLIGHT
TZOFFSETFROM:+0100
TZOFFSETTO:+0200
TZNAME:CEST
DTSTART:20190331T010000
END:DAYLIGHT
BEGIN:STANDARD
TZOFFSETFROM:+0200
TZOFFSETTO:+0100
TZNAME:CET
DTSTART:20191027T010000
END:STANDARD
END:VTIMEZONE
BEGIN:VEVENT
DTSTART;TZID=Europe/Paris:20190425T180000
DTEND;TZID=Europe/Paris:20190425T193000
DTSTAMP:20260421T160228
CREATED:20190402T145626Z
LAST-MODIFIED:20190426T095511Z
UID:43878-1556215200-1556220600@old.avertesagoraja.hu
SUMMARY:UFo - Nyitott rezervátum
DESCRIPTION:\n\n	\n\n        20190425_01\n\n        \n\n        \n            \n        \n\n         \n\n        \n\n            \n                \n                    ◄ Előző                \n            \n\n            \n                \n                    Következő                    ►\n                \n            \n\n            \n                Kép                1                 /                19            \n\n            \n                  \n            \n\n        \n    \n\n\nAz ÚJ Forrás folyóirat és A Vértes Agorája irodalmi-zenei programjai\nHázigazda: Jász Attila | Csendes Toll\n\nÁldozati énekek\n(Gitanjali)\nTagore és Lálan dalok \n Parvathy Baul (Nyugat-Bengál)\nés Wittek Béla koncertje\nParvathy Baul Nyugat-Bengálból származó bául énekesnő\, festőművész és mesélő. Gyermekkorától részesült zenei és táncoktatásban\, majd vizuális művészeteket tanult Santiniketanban a Tagore által alapított Kala Bhavan Egyetemen. Itt hallotta először későbbi mesterének\, Sanatandas Baulnak a koncertjét\, amelynek hatására az évezredes bául hagyomány útjára lépett. 1995 óta lép föl szülőhazájában és szerte Indiában. \nInterjú Parvathy Baul-lal ITT érhető el. \nWittek Béla\n1987-ben szerzett diplomát a Budapesti Liszt Ferenc Zeneművészeti Főiskola klasszikus gitár szakán. Szitározni\, illetve  klasszikus indiai zenét 1994-től Kozma Andrástól\, Ravi Shankar tanítványától tanult. Wittek Béla autodidakta módon számos más hangszeren megtanult zenélni. A mostani koncerten údon (arab lant) játssza Tagore és Lálan dalaihoz komponált zenei kíséretét. \n \n \n
URL:https://old.avertesagoraja.hu/program/ufo-nyitott-rezervatum-20/
LOCATION:A Vértes Agorája\, Szent Borbála tér 1.\, Tatabánya\, 2800\, Magyarország
CATEGORIES:Programkínálat
ATTACH;FMTTYPE=image/jpeg:https://old.avertesagoraja.hu/wp-content/uploads/2019/04/UFo_2019_800x400_APR.jpg
END:VEVENT
END:VCALENDAR