BEGIN:VCALENDAR
VERSION:2.0
PRODID:-//A Vértes Agoraja - ECPv4.9.13//NONSGML v1.0//EN
CALSCALE:GREGORIAN
METHOD:PUBLISH
X-WR-CALNAME:A Vértes Agoraja
X-ORIGINAL-URL:https://old.avertesagoraja.hu
X-WR-CALDESC:Events for A Vértes Agoraja
BEGIN:VTIMEZONE
TZID:Europe/Paris
BEGIN:DAYLIGHT
TZOFFSETFROM:+0100
TZOFFSETTO:+0200
TZNAME:CEST
DTSTART:20180325T010000
END:DAYLIGHT
BEGIN:STANDARD
TZOFFSETFROM:+0200
TZOFFSETTO:+0100
TZNAME:CET
DTSTART:20181028T010000
END:STANDARD
END:VTIMEZONE
BEGIN:VEVENT
DTSTART;TZID=Europe/Paris:20181004T180000
DTEND;TZID=Europe/Paris:20181004T193000
DTSTAMP:20260425T171415
CREATED:20180302T092002Z
LAST-MODIFIED:20180302T110246Z
UID:33427-1538676000-1538681400@old.avertesagoraja.hu
SUMMARY:TVRTKO ... túl minden határon ...
DESCRIPTION:Jegyvásárlás\n  \nEgy lebilincselően izgalmas este a Föld körül Vujity Tvrtkoval. Az év motivációs előadása\, rengeteg nevetéssel\, még több kalanddal\, s a legyőzhetetlen erővel. Egy felejthetetlen este\, ami mindenkit felemel és erősebbé tesz! \n \nBelépőjegyek A Vértes Agorája jegypénztárában is kaphatók. \nUtalványt\, valamint Cafeteria- és SZÉP Kártyát erre a rendezvényre elfogadunk.\nBővebb információ \n
URL:https://old.avertesagoraja.hu/program/tvrtko/
LOCATION:A Vértes Agorája\, Szent Borbála tér 1.\, Tatabánya\, 2800\, Magyarország
CATEGORIES:Programkínálat
ATTACH;FMTTYPE=image/jpeg:https://old.avertesagoraja.hu/wp-content/uploads/2018/03/Tvrtko_2018_800x400_4.jpg
END:VEVENT
END:VCALENDAR