BEGIN:VCALENDAR
VERSION:2.0
PRODID:-//A Vértes Agoraja - ECPv4.9.13//NONSGML v1.0//EN
CALSCALE:GREGORIAN
METHOD:PUBLISH
X-WR-CALNAME:A Vértes Agoraja
X-ORIGINAL-URL:https://old.avertesagoraja.hu
X-WR-CALDESC:Events for A Vértes Agoraja
BEGIN:VTIMEZONE
TZID:Europe/Paris
BEGIN:DAYLIGHT
TZOFFSETFROM:+0100
TZOFFSETTO:+0200
TZNAME:CEST
DTSTART:20220327T010000
END:DAYLIGHT
BEGIN:STANDARD
TZOFFSETFROM:+0200
TZOFFSETTO:+0100
TZNAME:CET
DTSTART:20221030T010000
END:STANDARD
END:VTIMEZONE
BEGIN:VEVENT
DTSTART;TZID=Europe/Paris:20221021T180000
DTEND;TZID=Europe/Paris:20221021T193000
DTSTAMP:20260425T025504
CREATED:20221006T091408Z
LAST-MODIFIED:20221006T091408Z
UID:59186-1666375200-1666380600@old.avertesagoraja.hu
SUMMARY:Trezor
DESCRIPTION:[vc_row][vc_column][vc_column_text] \nAz 1956-os forradalom és szabadságharc emlékére\n[/vc_column_text][/vc_column][/vc_row][vc_row][vc_column][vc_column_text] \nmagyar történelmi film | 75 perc | 2018\n12 éven aluliak számára a megtekintése\nnagykorú felügyelete mellett ajánlott\n \nA Trezor című történelmi thriller az ’56-os forradalom bukása utáni napokban játszódik\, amikor helyesen cselekedni egyet jelent az életveszéllyel. Jellemformáló időszak ez: a kegyencből egycsapásra kegyvesztett lehet\, s fordítva. A pergő ritmusú\, egy napra és szűk játéktérre sűrített történet főhőse – egy kasszafúró – az államhatalomtól kap megbízást: egy fontos iratokat rejtő trezort kell feltörnie… Az egykor szebb napokat és becses értékeket látott helyiség azonban egészen mást rejt\, mint azt várja\, ahogy a kijutás is sokkal bonyolultabb\, mint gondolná\, s nem csupán fizikai értelemben. \n [/vc_column_text][/vc_column][/vc_row][vc_row][vc_column width=”1/2″][vc_column_text] \nSzereplők\n\n\n\n\nAnger Zsolt\nScherer Péter\nTasnádi Bence\nHámori Gabriella\nVarga József\n\n\n\n\n[/vc_column_text][/vc_column][vc_column width=”1/2″][vc_column_text] \nAlkotók\nRendező: Bergendy Péter\nProducer: Lajos Tamás\nForgatókönyv: Köbli Norbert\nZeneszerző: Pacsay Attila\nVágó: Király István\nDíszlettervező: Hujber Balázs \n [/vc_column_text][/vc_column][/vc_row][vc_row][vc_column][vc_column_text] \nA vetítés A Vértes Agorájában lesz. A helyfoglalás az érkezés sorrendjében történik\, a nagyterem befogadóképességéig.\n[/vc_column_text][/vc_column][/vc_row] \n
URL:https://old.avertesagoraja.hu/program/trezor/
LOCATION:A Vértes Agorája\, Szent Borbála tér 1.\, Tatabánya\, 2800\, Magyarország
CATEGORIES:Programkínálat
ATTACH;FMTTYPE=image/jpeg:https://old.avertesagoraja.hu/wp-content/uploads/2022/10/800x400.jpg
END:VEVENT
END:VCALENDAR