BEGIN:VCALENDAR
VERSION:2.0
PRODID:-//A Vértes Agoraja - ECPv4.9.13//NONSGML v1.0//EN
CALSCALE:GREGORIAN
METHOD:PUBLISH
X-WR-CALNAME:A Vértes Agoraja
X-ORIGINAL-URL:https://old.avertesagoraja.hu
X-WR-CALDESC:Events for A Vértes Agoraja
BEGIN:VTIMEZONE
TZID:Europe/Paris
BEGIN:DAYLIGHT
TZOFFSETFROM:+0100
TZOFFSETTO:+0200
TZNAME:CEST
DTSTART:20220327T010000
END:DAYLIGHT
BEGIN:STANDARD
TZOFFSETFROM:+0200
TZOFFSETTO:+0100
TZNAME:CET
DTSTART:20221030T010000
END:STANDARD
END:VTIMEZONE
BEGIN:VEVENT
DTSTART;TZID=Europe/Paris:20220117T180000
DTEND;TZID=Europe/Paris:20220117T200000
DTSTAMP:20260425T203217
CREATED:20211127T143054Z
LAST-MODIFIED:20211127T143054Z
UID:56885-1642442400-1642449600@old.avertesagoraja.hu
SUMMARY:Szenvedélyes szomszédok | Téli filmnapok 2.
DESCRIPTION:[vc_row][vc_column][/vc_column][/vc_row][vc_row][vc_column][vc_column_text] \nSENTIMENTAL\nspanyol vígjáték | eredeti nyelven\, magyar felirattal\n82 perc | 2020\n16 éven aluliak számára nem ajánlott \n„Minden a szexről szól\, kivéve a szexet.” (Oscar Wilde) \nA Szenvedélyes szomszédok című spanyol vígjáték egyhelyszínes\, ún. kamarafilm. Egy középkorú házaspár otthona fölé új lakók költöznek\, akik hallhatóan még a kapcsolatuk szenvedélyes szakaszánál tartanak. A történet kerete egy közös vacsora\, s bár a felszínt az elementáris mozgatórugó\, a szex uralja\, a ruhák mindvégig fennmaradnak. A pikantéria és szemérem különös elegye\, a kiváló színészi alakítások\, a pergő és vicces párbeszédek\, s az azonosulásélmény igazán szórakoztató alkotássá emeli a filmet.[/vc_column_text][/vc_column][/vc_row][vc_row][vc_column width=”1/2″][vc_column_text] \nSzereplők\n\n\n\n\nBelén Cuesta Laura\n\n\nJavier Cámara Julio\n\n\nAlberto San Juan Salva\n\n\nGriselda Sicilliani Ana\n\n\n\n\n[/vc_column_text][/vc_column][vc_column width=”1/2″][vc_column_text] \nAlkotók\n\nRendező és forgatókönyvíró:\nCesc Gay\nOperatőr: Andreu Rebés\nVágó: Liana Artigal \n\n[/vc_column_text][/vc_column][/vc_row][vc_row][vc_column][vc_column_text] \nA vetítés A Vértes Agorájában lesz. A helyfoglalás az érkezés sorrendjében történik\, a nagyterem befogadóképességéig.\nAz épületben kötelező a védőmaszk használata.\n[/vc_column_text][/vc_column][/vc_row] \n
URL:https://old.avertesagoraja.hu/program/teli-filmnapok-2022-2/
LOCATION:A Vértes Agorája\, Szent Borbála tér 1.\, Tatabánya\, 2800\, Magyarország
CATEGORIES:Programkínálat
ATTACH;FMTTYPE=image/png:https://old.avertesagoraja.hu/wp-content/uploads/2021/11/2022_Teli_filmnapok_800x400_szenvedelyes_szomszedok.png
END:VEVENT
END:VCALENDAR