BEGIN:VCALENDAR
VERSION:2.0
PRODID:-//A Vértes Agoraja - ECPv4.9.13//NONSGML v1.0//EN
CALSCALE:GREGORIAN
METHOD:PUBLISH
X-WR-CALNAME:A Vértes Agoraja
X-ORIGINAL-URL:https://old.avertesagoraja.hu
X-WR-CALDESC:Events for A Vértes Agoraja
BEGIN:VTIMEZONE
TZID:Europe/Helsinki
BEGIN:DAYLIGHT
TZOFFSETFROM:+0200
TZOFFSETTO:+0300
TZNAME:EEST
DTSTART:20240331T010000
END:DAYLIGHT
BEGIN:STANDARD
TZOFFSETFROM:+0300
TZOFFSETTO:+0200
TZNAME:EET
DTSTART:20241027T010000
END:STANDARD
END:VTIMEZONE
BEGIN:VEVENT
DTSTART;TZID=Europe/Helsinki:20240501T100000
DTEND;TZID=Europe/Helsinki:20240501T200000
DTSTAMP:20260425T174316
CREATED:20240410T114322Z
LAST-MODIFIED:20240429T081118Z
UID:63044-1714557600-1714593600@old.avertesagoraja.hu
SUMMARY:Tatabányai Majális
DESCRIPTION:𝐏𝐫𝐨𝐠𝐫𝐚𝐦𝐨𝐤:\n  \n10:00 Felvonulás a Magyar Szakszervezeti Szövetség szervezésében\n(Szent Borbála tér – Köztársaság út – Sárberek – Vízmű – Csónakázó – tó) \n10:00 Bius Team – Zumba® \n11:00 Dancing Feet Akrobatikus Rock And Roll Sport Egyesület \n14:00 Virtus Majorette Sportegyesület \n15:00 Endrődi Ági és a Fellegjárók gyermekkoncert \n16:00 Májusfa állítás – a Tatabányai Bányász Táncegyüttes műsora \n17:00 Mostjó Zenekar \n18:30 Midlife Crisis Party Zenekar \n  \nKísérőprogramok:\nSipos Vidámpark | vendéglátás | kézműves foglalkozások \n
URL:https://old.avertesagoraja.hu/program/tatabanyai-majalis/
LOCATION:Csónakázó-tó\, Tatabánya\, Komárom-Esztergom\, 2800\, Magyarország
CATEGORIES:Programkínálat,Saját szervezésű rendezvény
ATTACH;FMTTYPE=image/jpeg:https://old.avertesagoraja.hu/wp-content/uploads/2024/04/20240501_Majalis_800x400-02-scaled.jpg
END:VEVENT
END:VCALENDAR