BEGIN:VCALENDAR
VERSION:2.0
PRODID:-//A Vértes Agoraja - ECPv4.9.13//NONSGML v1.0//EN
CALSCALE:GREGORIAN
METHOD:PUBLISH
X-WR-CALNAME:A Vértes Agoraja
X-ORIGINAL-URL:https://old.avertesagoraja.hu
X-WR-CALDESC:Events for A Vértes Agoraja
BEGIN:VTIMEZONE
TZID:Europe/Paris
BEGIN:DAYLIGHT
TZOFFSETFROM:+0100
TZOFFSETTO:+0200
TZNAME:CEST
DTSTART:20180325T010000
END:DAYLIGHT
BEGIN:STANDARD
TZOFFSETFROM:+0200
TZOFFSETTO:+0100
TZNAME:CET
DTSTART:20181028T010000
END:STANDARD
END:VTIMEZONE
BEGIN:VEVENT
DTSTART;TZID=Europe/Paris:20180314T190000
DTEND;TZID=Europe/Paris:20180314T203000
DTSTAMP:20260425T221435
CREATED:20180118T150909Z
LAST-MODIFIED:20180124T070917Z
UID:31502-1521054000-1521059400@old.avertesagoraja.hu
SUMMARY:Tatabányai Black Diamond Big Band és vendégei
DESCRIPTION:Jegyvásárlás\n  \nA Black Diamond Big Band Tatabánya egyetlen – és nagyon népszerű – big bandje. Évek óta színvonalasan mutatja be a korabeli swing zenét\, illetve a dzsessz szinte minden válfaját. A zenekar tagjai többségben képzett klasszikus- és jazz zenészek\, ami lehetővé teszi\, hogy többféle stílusban játsszanak.   \nAz 1998-ban alakult Black Diamond Big Band újdonságot jelentett Tatabánya jazz zenei életben\, hiszen létrejött egy big band\, amely hangzása az 1920-as éveket idézte. A zenekar ma is tartó dinamikus és töretlen fejlődését az együttes alapítója és vezetője Ludányi Tamás\, valamint művészeti vezetője Elek István szaxofonművész\, a Liszt Ferenc Zeneművészeti Egyetem jazz-szaxofon tanára biztosítja. \nA Black Diamond Big Band ars poeticája: a kortárs jazz\, big band zene művelése mellett ápolni a kapcsolatot a műfaj gyökereivel\, s közkinccsé tenni annak értékeit\, szakmai tapasztalatait pedig tovább adni a fiatal muzsikus generációnak. Az együttes céljának\, feladatának tartja az improvizatív és kortárs műfajok\, a magyar zenekultúra hazai interpretálását. \n \n  \nAz idei tavaszi fesztiválon két – a nagyvilágban is elismert – hazai művész lesz a zenekar vendége\, Oláh Kálmán jazz-zongoraművész\, valamint Gájer Bálint jazzének előadóművész.\n  \n \nBelépőjegyek A Vértes Agorája jegypénztárában is kaphatók.\nKorai elővételben (február 28-áig): 1.800 Ft\nTatabánya Kártyával: 2.000 Ft\nTeljes ár: 2.500 Ft \nErre a rendezvényre utalványt\, valamint Cafeteria- és SZÉP Kártyát is elfogadunk.\nBővebb információ \n
URL:https://old.avertesagoraja.hu/program/tatabanyai-black-diamond/
LOCATION:A Vértes Agorája\, Szent Borbála tér 1.\, Tatabánya\, 2800\, Magyarország
CATEGORIES:Programkínálat
ATTACH;FMTTYPE=image/jpeg:https://old.avertesagoraja.hu/wp-content/uploads/2018/01/TTF_2018_800x400_Diamond.jpg
END:VEVENT
END:VCALENDAR