BEGIN:VCALENDAR
VERSION:2.0
PRODID:-//A Vértes Agoraja - ECPv4.9.13//NONSGML v1.0//EN
CALSCALE:GREGORIAN
METHOD:PUBLISH
X-WR-CALNAME:A Vértes Agoraja
X-ORIGINAL-URL:https://old.avertesagoraja.hu
X-WR-CALDESC:Events for A Vértes Agoraja
BEGIN:VTIMEZONE
TZID:Europe/Helsinki
BEGIN:DAYLIGHT
TZOFFSETFROM:+0200
TZOFFSETTO:+0300
TZNAME:EEST
DTSTART:20220327T010000
END:DAYLIGHT
BEGIN:STANDARD
TZOFFSETFROM:+0300
TZOFFSETTO:+0200
TZNAME:EET
DTSTART:20221030T010000
END:STANDARD
END:VTIMEZONE
BEGIN:VEVENT
DTSTART;TZID=Europe/Helsinki:20221001T180000
DTEND;TZID=Europe/Helsinki:20221001T193000
DTSTAMP:20260425T225041
CREATED:20220912T114722Z
LAST-MODIFIED:20220912T133202Z
UID:58957-1664647200-1664652600@old.avertesagoraja.hu
SUMMARY:Tatabányai Black Diamond Big Band koncert
DESCRIPTION:Vendég \nKISS KAMILKA\nA zene világnapján\, október 1-jén este\, a város emblematikus művészeti közössége\, a Tatabányai Black Diamond Big Band ad koncertet az Agorában. A változatos és igényes – a műfaj hagyományos és modern stílusjegyeit egyaránt felmutató – repertoárjáról ismert formáció vendége ezúttal Kiss Kamilka lesz. A hanyag eleganciáról és “izgága női líráról” ismert – többségében magyar nyelven éneklő – előadóművész a swing aranykorának hangulatát varázsolja minden alkalommal színpadra. A közös produkció különleges hangulatot és remek szórakozást ígér. \nA koncert a nagyteremben lesz. A belépés ingyenes\, a helyfoglalás az érkezés sorrendjében történik\, a terem befogadóképességéig (441 fő).\n
URL:https://old.avertesagoraja.hu/program/tatabanyai-black-diamond-big-band-2022/
LOCATION:A Vértes Agorája\, Szent Borbála tér 1.\, Tatabánya\, 2800\, Magyarország
CATEGORIES:Programkínálat,Saját szervezésű rendezvény
ATTACH;FMTTYPE=image/png:https://old.avertesagoraja.hu/wp-content/uploads/2022/09/20221001_Black_diamond_800x400.png
END:VEVENT
END:VCALENDAR