BEGIN:VCALENDAR
VERSION:2.0
PRODID:-//A Vértes Agoraja - ECPv4.9.13//NONSGML v1.0//EN
CALSCALE:GREGORIAN
METHOD:PUBLISH
X-WR-CALNAME:A Vértes Agoraja
X-ORIGINAL-URL:https://old.avertesagoraja.hu
X-WR-CALDESC:Events for A Vértes Agoraja
BEGIN:VTIMEZONE
TZID:Europe/Paris
BEGIN:DAYLIGHT
TZOFFSETFROM:+0100
TZOFFSETTO:+0200
TZNAME:CEST
DTSTART:20180325T010000
END:DAYLIGHT
BEGIN:STANDARD
TZOFFSETFROM:+0200
TZOFFSETTO:+0100
TZNAME:CET
DTSTART:20181028T010000
END:STANDARD
END:VTIMEZONE
BEGIN:VEVENT
DTSTART;TZID=Europe/Paris:20180325T190000
DTEND;TZID=Europe/Paris:20180325T203000
DTSTAMP:20260425T192431
CREATED:20180118T164426Z
LAST-MODIFIED:20180326T072810Z
UID:31583-1522004400-1522009800@old.avertesagoraja.hu
SUMMARY:Kapcsolatok - Tatabánya Város Fúvószenekarának előadása
DESCRIPTION:[Not a valid template]\nTatabánya Város Fúvószenekara mindig fontosnak tartotta a koncertfúvós irodalom eredeti darabjainak és igényes átiratainak bemutatását. Ezen a koncerten több olyan mű is felcsendül majd\, amelyek szélesebbre tárják a fúvószenei lehetőségek tárházát. Kiegészülve a legősibb hangszerrel\, az emberi hanggal egy Tatabányán még be nem mutatott\, új repertoár ígér különleges zenei élményt a közönségnek. \nA Tatabányai Tavaszi Fesztivál záróprogramja valódi zenei csemegének ígérkezik. \n \nMűsor:  \nPhilip Sparke: Concert Overture\nAlfred Reed: Little Concert Suite\nBalázs Árpád: Él a nemzet\nBalázs Árpád: Bodzavirág\nTóth Péter kórusművei\nJames L. Hosay: Fantasia on a 13th Century Carol (March of the Three Kings)\nEnnio Morricone/Johann De Meij: Moment for Morricone\nA Tribute to Gershwin / arr.: Naohiro Iwai  \nKözreműködik a tatabányai Árpád Gimnázium Vegyeskara és a Bárdos Lajos Vegyeskórus. Vezényel: Szeimann Zsuzsa.\nA zenekart Szabó Ferenc vezényli. \n \nBelépőjegyek A Vértes Agorája jegypénztárában is kaphatók.\nKorai elővételben (február 28-áig): 2.500 Ft\nTatabánya Kártyával: 3.150 Ft\nTeljes ár: 3.500 Ft \nErre a rendezvényre utalványt\, valamint Cafeteria- és SZÉP Kártyát is elfogadunk.\nBővebb információ \n
URL:https://old.avertesagoraja.hu/program/tatabanya-varos-fuvoszenekara/
LOCATION:A Vértes Agorája\, Szent Borbála tér 1.\, Tatabánya\, 2800\, Magyarország
CATEGORIES:Programkínálat
ATTACH;FMTTYPE=image/jpeg:https://old.avertesagoraja.hu/wp-content/uploads/2018/01/TTF_2018_800x400_Fuvos-1.jpg
END:VEVENT
END:VCALENDAR