BEGIN:VCALENDAR
VERSION:2.0
PRODID:-//A Vértes Agoraja - ECPv4.9.13//NONSGML v1.0//EN
CALSCALE:GREGORIAN
METHOD:PUBLISH
X-WR-CALNAME:A Vértes Agoraja
X-ORIGINAL-URL:https://old.avertesagoraja.hu
X-WR-CALDESC:Events for A Vértes Agoraja
BEGIN:VTIMEZONE
TZID:Europe/Paris
BEGIN:DAYLIGHT
TZOFFSETFROM:+0100
TZOFFSETTO:+0200
TZNAME:CEST
DTSTART:20210328T010000
END:DAYLIGHT
BEGIN:STANDARD
TZOFFSETFROM:+0200
TZOFFSETTO:+0100
TZNAME:CET
DTSTART:20211031T010000
END:STANDARD
END:VTIMEZONE
BEGIN:VEVENT
DTSTART;TZID=Europe/Paris:20210820T080000
DTEND;TZID=Europe/Paris:20210820T100000
DTSTAMP:20260426T015344
CREATED:20210806T073603Z
LAST-MODIFIED:20210806T074240Z
UID:55142-1629446400-1629453600@old.avertesagoraja.hu
SUMMARY:Szent István Nap Felsőgallán
DESCRIPTION:Szent István Napi ünnepi rendezvény a Felsőgallai Baráti Kör Egyesület és a Széchenyi István Művelődési Ház szervezésében. \nProgram: \n\nReggel 800 órakor ünnepi szentmise a Felsőgallai Szűz Mária Szent Neve Templomban\, majd kenyérszentelés.\nKoszorúzás és ünnepi műsor a Szent István szobornál.\nA program az új kenyér megszegésével zárul.\n\nKözreműködik a Felsőgallai Német Nemzetiségi Dalkör és az Echo Zenekar. \nTudta-e? 1938-ban nyilvánította nemzeti ünneppé augusztus 20-át az országgyűlés\nAugusztus 20-a hivatalos állami ünnep\, az államalapítás és az államalapító Szent István király emlékére\n• A források szerint 1083-ban e napon emelték ki és szállították át a székesfehérvári Nagyboldogasszony bazilikába Szent István\, Imre herceg és Gellért püspök csontjait \n• Ez a nap közel esik István halálának napjához\, aki 1038-ban Nagyboldogasszony ünnepén hunyt el\n• A magyar királyok évszázadokon át a szentkirály ünnepének is nevezték ezt a napot\n• Augusztus 20-án többször tartottak Fehérváron törvénynapokat\, ilyenkor a király személyesen ítélkezett az elé járulók ügyeiben\n• Buda 1686-os visszafoglalásának alkalmából XI. Ince pápa elrendelte\, hogy a katolikus világ emlékezzen meg Szent Istvánról\n• 1771-ben Mária Terézia rendelte el a Szent Jobb Budára szállítását és nyilvánította országos ünneppé Szent István napját\n• Az ünnepet töretlenül ülték meg évente egészen a szabadságharc 1849-es bukásáig\n• A Bach-korszak idején az ünnepet betiltották\, csak a kiegyezést követően lehetett újra megünnepelni\n• 1891-ben Ferenc József munkaszüneti nappá nyilvánította augusztus 20-át \n• 1938. augusztus 18-án a székesfehérvári országgyűlés alkotta meg az 1938. évi XXXIII. tv-t Szent István király dicső emlékének megörökítéséről\n• A törvény tisztelettel adózik István uralkodásának:\n „…első királyunknak\, a szentnek\, az államalkotónak\, az uralkodónak és a hadvezérnek máig ható\, dicsőséges tetteiről és maradandó történelmi alkotásairól. Ezek a tettek és ezek az alkotások örök időkre hirdetik az ő csodálatos emberi nagyságát\, kimagasló uralkodói erényeit és mélységes államférfiúi bölcsességét. Új szellemi és társadalmi formát adott a magyarság életének\, de ugyanakkor tisztelte és óvta az ősi értékeket. A krisztusi hit elterjesztésével\, a keresztény erkölcsök meghonosításával megnyitotta a keletről jött magyarság előtt a nyugati művelődés kapuit s államépítő munkájával megvetette a magyar nemzet életének és fejlődésének szilárd alapjait. …s a nemzet gondolatának kifejlesztésével a magyarság egymást követő nemzedékeinek lelkébe mélyen belevéste a magyar állam szuverénitásának\, a magyar nemzet szabadságának s a magyarság magasabb európai küldetésének tudatát és akaratát.”\n• A törvény Szent István emlékezetére augusztus 20-át minden évben ünneppé nyilvánította\n• A kommunizmus évtizedeiben bár augusztus 20-a ünnep volt\, nem Szent István ünnepeként tartották számon\n• 1950-től e napon az alkotmány\, illetve a népköztársaság napját ünnepelték\n• A rendszerváltozást követően az Országgyűlés 1991-ben nyilvánította augusztus 20-át ismét állami ünneppé\n• Szent István tetteiről az Alaptörvény Nemzeti Hitvallása is megemlékezik \nForrás: www.birosag.hu\n
URL:https://old.avertesagoraja.hu/program/szin-2021-felsogalla/
LOCATION:Szűz Mária Szent Neve Templom (Felsőgalla)\, Szent István utca 55.\, Tatabánya\, Komárom-Esztergom\, 2800\, Magyarország
CATEGORIES:Programkínálat
ATTACH;FMTTYPE=image/png:https://old.avertesagoraja.hu/wp-content/uploads/2021/08/SZIMH_Augusztus_2021_800x400.png
END:VEVENT
END:VCALENDAR