BEGIN:VCALENDAR
VERSION:2.0
PRODID:-//A Vértes Agoraja - ECPv4.9.13//NONSGML v1.0//EN
CALSCALE:GREGORIAN
METHOD:PUBLISH
X-WR-CALNAME:A Vértes Agoraja
X-ORIGINAL-URL:https://old.avertesagoraja.hu
X-WR-CALDESC:Events for A Vértes Agoraja
BEGIN:VTIMEZONE
TZID:Europe/Helsinki
BEGIN:DAYLIGHT
TZOFFSETFROM:+0200
TZOFFSETTO:+0300
TZNAME:EEST
DTSTART:20220327T010000
END:DAYLIGHT
BEGIN:STANDARD
TZOFFSETFROM:+0300
TZOFFSETTO:+0200
TZNAME:EET
DTSTART:20221030T010000
END:STANDARD
END:VTIMEZONE
BEGIN:VEVENT
DTSTART;TZID=Europe/Helsinki:20221007T170000
DTEND;TZID=Europe/Helsinki:20221007T180000
DTSTAMP:20260426T005936
CREATED:20220914T095940Z
LAST-MODIFIED:20220914T100639Z
UID:58979-1665162000-1665165600@old.avertesagoraja.hu
SUMMARY:Szendőfi Pál kiállítása
DESCRIPTION:A jubileumok bizonyos tekintetben a számvetésről is szólnak. Tatabánya várossá nyilvánítása 75. évfordulóján több program is reprezentálja\, hogy az ipar nem csupán a megélhetést és az infrastrukturális fejlődést\, hanem a megfelelő szellemi-kulturális közeget – legyen szó alkotásról vagy befogadásról – is megteremtette\, sőt meghonosította a településen. \nEnnek egyik bizonyítéka\, hogy Tatabánya ma is sok – országosan jegyzett – alkotóművész otthona\, inspiráló közege. \nÍgy a jubileumi programok sorában helyet kapott a képzőművészet is: Szendőfi Pál\, Tatabányán élő festő- és grafikusművész önálló kiállítása a Tulipános Házban valósul meg. \nSzendőfi első mestereit és iskoláját a tatabányai Bányász Képzőművész Körben találta meg. Kezdeti témái – természet\, irodalom\, zene – grafikákban öltöttek testet\, az újabbakhoz azonban a festészeti technikát találta megfelelőnek. Jelenleg a tárgyi valóságot felváltó geometrikus absztrakció foglalkoztatja. A most megvalósuló önálló kiállításon is ezek az alkotások kaptak helyet. \nAhogy – a kiállítás megnyitására és ajánlására felkért művészettörténész – Kövesdi Mónika fogalmaz: „Bár a stílus bölcsőjét az indusztriális kor\, a technika\, a mérnöki tudás és szemlélet állta körül\, nem tagadható meg tőle a lelki\, spirituális dimenzió sem…” \n \nA kiállítás november 4-éig látogatható a Tulipános Házban. Az esemény szervezője a Kortárs Galéria.\n
URL:https://old.avertesagoraja.hu/program/szendofi-pal-kiallitasa/
LOCATION:Tulipános Ház\, Népház u. 7.\, Tatabánya\, Komárom-Esztergom\, 2800\, Magyarország
CATEGORIES:Kortárs Galéria,Programkínálat,Saját szervezésű rendezvény,Tatabánya75
ATTACH;FMTTYPE=image/jpeg:https://old.avertesagoraja.hu/wp-content/uploads/2022/09/szendofi-800x400-1.jpg
END:VEVENT
END:VCALENDAR