BEGIN:VCALENDAR
VERSION:2.0
PRODID:-//A Vértes Agoraja - ECPv4.9.13//NONSGML v1.0//EN
CALSCALE:GREGORIAN
METHOD:PUBLISH
X-WR-CALNAME:A Vértes Agoraja
X-ORIGINAL-URL:https://old.avertesagoraja.hu
X-WR-CALDESC:Events for A Vértes Agoraja
BEGIN:VTIMEZONE
TZID:Europe/Paris
BEGIN:DAYLIGHT
TZOFFSETFROM:+0100
TZOFFSETTO:+0200
TZNAME:CEST
DTSTART:20190331T010000
END:DAYLIGHT
BEGIN:STANDARD
TZOFFSETFROM:+0200
TZOFFSETTO:+0100
TZNAME:CET
DTSTART:20191027T010000
END:STANDARD
END:VTIMEZONE
BEGIN:VEVENT
DTSTART;TZID=Europe/Paris:20191011T190000
DTEND;TZID=Europe/Paris:20191011T200000
DTSTAMP:20260425T124808
CREATED:20190531T123811Z
LAST-MODIFIED:20191012T194327Z
UID:45622-1570820400-1570824000@old.avertesagoraja.hu
SUMMARY:Szekeres Adrien exkluzív
DESCRIPTION:\n\n	\n\n        20191011_01\n\n        \n\n        \n            \n        \n\n         \n\n        \n\n            \n                \n                    ◄ Előző                \n            \n\n            \n                \n                    Következő                    ►\n                \n            \n\n            \n                Kép                1                 /                12            \n\n            \n                  \n            \n\n        \n    \n\n\n“Egy est zongorára hangolva”\nSzekeres Adrien Magyarország legnagyobb koncertszínpadain is meghódította már a közönség szívét. Tatabányán ezúttal egy bensőséges hangulatú koncerttel várja rajongóit\, ahol zongorakíséret mellett szólalnak meg régi és új dalai. \nA zongoránál a kiváló hangú énekesnő férje\, Kiss Gábor ül majd\, aki egyben az elhangzó dalok szerzője. A közönség így betekintést nyerhet a dalokat ihlető emlékekbe is. \n \n \nBelépőjegyek A Vértes Agorája jegypénztárában is kaphatók:\n3.000 Ft (Korai elővételben\, szeptember 30-áig)\n3.000 Ft (Tatabánya Kártyával)\n3.500 Ft (Teljes ár)\nUtalványt\, valamint Cafeteria- és SZÉP Kártyát erre a rendezvényre elfogadunk. Bővebb információ\n
URL:https://old.avertesagoraja.hu/program/szekeres-adrien-exkluziv/
LOCATION:A Vértes Agorája\, Szent Borbála tér 1.\, Tatabánya\, 2800\, Magyarország
CATEGORIES:Programkínálat
ATTACH;FMTTYPE=image/jpeg:https://old.avertesagoraja.hu/wp-content/uploads/2019/05/SzekeresAdrien_2019_800x400.jpg
END:VEVENT
END:VCALENDAR