BEGIN:VCALENDAR
VERSION:2.0
PRODID:-//A Vértes Agoraja - ECPv4.9.13//NONSGML v1.0//EN
CALSCALE:GREGORIAN
METHOD:PUBLISH
X-WR-CALNAME:A Vértes Agoraja
X-ORIGINAL-URL:https://old.avertesagoraja.hu
X-WR-CALDESC:Events for A Vértes Agoraja
BEGIN:VTIMEZONE
TZID:Europe/Paris
BEGIN:DAYLIGHT
TZOFFSETFROM:+0100
TZOFFSETTO:+0200
TZNAME:CEST
DTSTART:20180325T010000
END:DAYLIGHT
BEGIN:STANDARD
TZOFFSETFROM:+0200
TZOFFSETTO:+0100
TZNAME:CET
DTSTART:20181028T010000
END:STANDARD
END:VTIMEZONE
BEGIN:VEVENT
DTSTART;TZID=Europe/Paris:20181207T140000
DTEND;TZID=Europe/Paris:20181207T150000
DTSTAMP:20260425T180657
CREATED:20180921T053219Z
LAST-MODIFIED:20181208T162107Z
UID:38210-1544191200-1544194800@old.avertesagoraja.hu
SUMMARY:Szabó Gyuri bácsi\, a bükki füvesember
DESCRIPTION:\n\n	\n\n        20181207-gy_01\n\n        \n\n        \n            \n        \n\n         \n\n        \n\n            \n                \n                    ◄ Előző                \n            \n\n            \n                \n                    Következő                    ►\n                \n            \n\n            \n                Kép                1                 /                11            \n\n            \n                  \n            \n\n        \n    \n\n\nGyuri bácsi decemberben Tatabányára készül\, hogy találkozzon a gyógynövények iránt érdeklődő közönséggel. Előadásában beszélni fog a szerveink tisztításáról\, a megelőzésről és a gyógynövények kúraszerű használatáról. Gyuri bácsi örömmel osztja meg tapasztalatait a hallgatósággal: reméljük\, most is sok hasznos és érdekes dolgot fognak tanulni. Az előadás előtt és után lehetőség lesz a vásárlásra\, valamint Gyuri bácsihoz az előadás előtt kérdésekkel is lehet fordulni. \n \n \nBelépőjegyek A Vértes Agorája jegypénztárában is kaphatók.\nUtalványt\, valamint Cafeteria- és SZÉP Kártyát erre a rendezvényre nem áll módunkban elfogadni.\nBővebb információ\n
URL:https://old.avertesagoraja.hu/program/szabo-gyuri-bacsi-a-bukki-fuvesember/
LOCATION:A Vértes Agorája\, Szent Borbála tér 1.\, Tatabánya\, 2800\, Magyarország
CATEGORIES:Programkínálat
ATTACH;FMTTYPE=image/jpeg:https://old.avertesagoraja.hu/wp-content/uploads/2018/09/gyuribacsi_800x400.jpg
END:VEVENT
END:VCALENDAR