BEGIN:VCALENDAR
VERSION:2.0
PRODID:-//A Vértes Agoraja - ECPv4.9.13//NONSGML v1.0//EN
CALSCALE:GREGORIAN
METHOD:PUBLISH
X-WR-CALNAME:A Vértes Agoraja
X-ORIGINAL-URL:https://old.avertesagoraja.hu
X-WR-CALDESC:Events for A Vértes Agoraja
BEGIN:VTIMEZONE
TZID:Europe/Paris
BEGIN:DAYLIGHT
TZOFFSETFROM:+0100
TZOFFSETTO:+0200
TZNAME:CEST
DTSTART:20190331T010000
END:DAYLIGHT
BEGIN:STANDARD
TZOFFSETFROM:+0200
TZOFFSETTO:+0100
TZNAME:CET
DTSTART:20191027T010000
END:STANDARD
END:VTIMEZONE
BEGIN:VEVENT
DTSTART;TZID=Europe/Paris:20190107T150000
DTEND;TZID=Europe/Paris:20190107T163000
DTSTAMP:20260425T105852
CREATED:20181207T111301Z
LAST-MODIFIED:20181207T115252Z
UID:40698-1546873200-1546878600@old.avertesagoraja.hu
SUMMARY:Sing Street
DESCRIPTION:[vc_row][vc_column][vc_column_text] \nAgora filmklub 2019 \nSing Street\nír-amerikai-angol zenés vígjáték | 106 perc | 2016 \n12 éven aluliaknak a megtekintése nagykorú felügyelete mellett ajánlott\n \nDublin\, 1985. A Lalor család ifjú tagja egy tinédzser zenekart alapít\, hogy elnyerje egy lány szerelmét és elmeneküljön a családi problémák elől. A botcsinálta banda egyre jobbá válik és a srácok mind érzékletesebben fejezik ki öltözetükkel és zenéjükkel a serdülőkor dühét és lázadását. A zenekaron és a szerelmespár humoros-romantikus kapcsolatán keresztül pedig kibontakozik a nyolcvanas évek Írországának kulturális közege és a fiatal generáció jövőképe\, illetve annak hiánya.  \nForrás: port.hu \n[/vc_column_text][/vc_column][/vc_row][vc_row][vc_column width=”1/2″][vc_column_text] \n\n\n\nSzereplők\n \n\nBrendan Jack Reynor\n\n\nRobert Aidan Gillen\n\n\nPenny Maria Doyle Kennedy\n\n\nRaphina Lucy Boynton\n\n\nAnn Kelly Thornton\n\n\nCosmo Ferdia Walsh-Peelo\n\n\nDarren Ben Carolan\n\n\n\n\n[/vc_column_text][/vc_column][vc_column width=”1/2″][vc_column_text] \n\n\n\nAlkotók \nOperatőr: Yaron Orbach\nForgatókönyv: John Carney\nRendező: John Carney\nVÁGÓ: Andrew Marcus\n\n\n\n[/vc_column_text][/vc_column][/vc_row][vc_row][vc_column][vc_column_text][/vc_column_text][/vc_column][/vc_row][vc_row][vc_column][vc_column_text] \n \nA kezdési időpont kimondottan a célközönség\, az iskolások igényeihez alkalmazkodik. \nA rendezvény egyénileg és csoportosan is látogatható.\nBővebb információ kérhető\nFatuska Máté kollégánktól: +36 30 476 7688 \n  \nFelhívjuk szíves figyelmüket\, hogy a helyfoglalás az érkezés sorrendjében történik\, a nagyterem maximális (450 fő) befogadóképességéig. Előzetes regisztráció nem szükséges. \n \nA más időbeosztással élő felnőtt nézőinknek januárban a Skandináv filmnapok elnevezésű programsorozat kínál tartalmas kikapcsolódási lehetőséget.\n[/vc_column_text][/vc_column][/vc_row] \n
URL:https://old.avertesagoraja.hu/program/sing-street/
LOCATION:A Vértes Agorája\, Szent Borbála tér 1.\, Tatabánya\, 2800\, Magyarország
CATEGORIES:Programkínálat
ATTACH;FMTTYPE=image/jpeg:https://old.avertesagoraja.hu/wp-content/uploads/2018/12/Agora_Filmklub_2019_800x400_1.jpg
END:VEVENT
END:VCALENDAR