BEGIN:VCALENDAR
VERSION:2.0
PRODID:-//A Vértes Agoraja - ECPv4.9.13//NONSGML v1.0//EN
CALSCALE:GREGORIAN
METHOD:PUBLISH
X-WR-CALNAME:A Vértes Agoraja
X-ORIGINAL-URL:https://old.avertesagoraja.hu
X-WR-CALDESC:Events for A Vértes Agoraja
BEGIN:VTIMEZONE
TZID:Europe/Paris
BEGIN:DAYLIGHT
TZOFFSETFROM:+0100
TZOFFSETTO:+0200
TZNAME:CEST
DTSTART:20220327T010000
END:DAYLIGHT
BEGIN:STANDARD
TZOFFSETFROM:+0200
TZOFFSETTO:+0100
TZNAME:CET
DTSTART:20221030T010000
END:STANDARD
END:VTIMEZONE
BEGIN:VEVENT
DTSTART;TZID=Europe/Paris:20221003T180000
DTEND;TZID=Europe/Paris:20221003T200000
DTSTAMP:20260425T233003
CREATED:20220915T115855Z
LAST-MODIFIED:20220915T115855Z
UID:58994-1664820000-1664827200@old.avertesagoraja.hu
SUMMARY:Traccs! | Sebestyén Balázs
DESCRIPTION:Jegyvásárlás\n  \nA talk show műfajában mára ismert sorozattá lett a Traccs\, amelyben a szervezők a beszélgetések során olyan vendégeket szólaltatnak meg\, akik élettörténete inspiráló és/vagy számot tart a szélesebb közönség érdeklődésére. Mindezt személyes\, közvetlen hangvétellel: könnyű és nehéz témákat egyaránt érintve. \nEzúttal az ismert médiaszemélyiség\, a Rádió1 műsorvezetője\, Sebestyén Balázs lesz a vendég.   \n \nBelépőjegyek kaphatók A Vértes Agorája jegypénztárában is: 3.900 Ft.\nUtalványt\, valamint Cafeteria- és SZÉP Kártyát elfogadunk.\nBővebb információ\n \nA szervező nyilatkozata:\nA rendezvényeink nem sajtónyilvánosak\, így az ott elhangzottakról kép-\, hang- és videófelvétel készítése a szervezők írásbeli hozzájárulása nélkül TILOS! Az előadóink által tett nyilatkozatok megjelentetése (online felületeken\, nyomtatott formában stb.) NEM engedélyezett! A jegy megvásárlásával a látogató hozzájárul\, hogy online felületeinken promóciós céllal\, mint az előadás résztvevőjéről kép-\, hang- és videófelvétel készülhet!\n
URL:https://old.avertesagoraja.hu/program/sebestyen-balazs/
LOCATION:A Vértes Agorája\, Szent Borbála tér 1.\, Tatabánya\, 2800\, Magyarország
CATEGORIES:Befogadott rendezvény,Programkínálat
ATTACH;FMTTYPE=image/png:https://old.avertesagoraja.hu/wp-content/uploads/2022/09/20221003_Traccs_800x400.png
END:VEVENT
END:VCALENDAR