BEGIN:VCALENDAR
VERSION:2.0
PRODID:-//A Vértes Agoraja - ECPv4.9.13//NONSGML v1.0//EN
CALSCALE:GREGORIAN
METHOD:PUBLISH
X-WR-CALNAME:A Vértes Agoraja
X-ORIGINAL-URL:https://old.avertesagoraja.hu
X-WR-CALDESC:Events for A Vértes Agoraja
BEGIN:VTIMEZONE
TZID:Europe/Paris
BEGIN:DAYLIGHT
TZOFFSETFROM:+0100
TZOFFSETTO:+0200
TZNAME:CEST
DTSTART:20180325T010000
END:DAYLIGHT
BEGIN:STANDARD
TZOFFSETFROM:+0200
TZOFFSETTO:+0100
TZNAME:CET
DTSTART:20181028T010000
END:STANDARD
END:VTIMEZONE
BEGIN:VEVENT
DTSTART;TZID=Europe/Paris:20180311T190000
DTEND;TZID=Europe/Paris:20180311T210000
DTSTAMP:20260425T201146
CREATED:20180105T114501Z
LAST-MODIFIED:20180311T095817Z
UID:31078-1520794800-1520802000@old.avertesagoraja.hu
SUMMARY:Rost Andrea & Harazdy Eszter
DESCRIPTION:Rost Andrea betegsége miatt\na ma esti előadás\nELMARAD.\nA belépőjegyek visszaválthatók március 21-éig\na vásárlás helyszínén\, vagy a tavaszi fesztivál más előadásaira cserélhetők.\n \n \nAnya-Lánya koncert: 2 Hang\, 2 Lélek\nKét csodálatos nő\, két elbűvölő személyiség.\n Rost Andrea és lánya\, Harazdy Eszter közös műsora egy különleges és felejthetetlen zenei élményt ad a hallgatóknak.\n Az előadás különlegessége a csodálatos hangzáson túl az egyes művek közötti összekötő beszélgetésekből fakad\, ahol a nézők bepillantást nyerhetnek a művésznők egymáshoz való bensőséges kapcsolatába és a zeneművekhez való kötődésükhöz.\n A műsor további érdekessége\, hogy a két művésznőt\, anyát és lányát Eszter édesapja\, Andrea korábbi férje\, Harazdy Miklós zongoraművész kíséri.\n A Tatabányai Tavaszi Fesztivál egyik fénypontjának ígérkező műsort a magas művészi értéken túl\, a harmónia és a szeretet hatja át. \n  \nROST ANDREA\n A Liszt Ferenc Zeneművészeti Főiskolán még főiskolásként a Magyar Állami Operaház ösztöndíjasaként elénekelte Júlia szerepét Gounod: Rómeó és Júlia operájában.\n 1991-ben\, a Wiener Staatsoper magánénekese lett\, ahol összes fontos szerepében megismerhette a bécsi közönség: Zerlinától és Adinától kezdve\, Susannán és Lammermoori Lucián át egészen Violetta parádés szerepalakításáig.\n A Milánói Scalába maga Riccardo Muti hívta meg az énekesnőt a Rigoletto 1994-es bemutatójára\, Gilda szerepére. Azóta is a Scala állandó visszatérő vendége. Milánóban Mozart Figaro házasságának Susannája\, majd Verdi Traviatájának Violettája követte a sort. A Salzburgi Ünnepi Játékokon is számos produkcióban lépett közönség elé\, és a legnagyobb karmesterekkel dolgozott együtt.\n A párizsi Opéra Bastille-ban Susannát\, Gildát és Lammermoori Lucia mellett Offenbach: Hoffmann meséiben Antoniát alakította. Alondoni Royal Opera House-ban Susannaként debütált a Figaró házasságában\, majd Violettát énekelt nagy sikerrel. Koncertszerű előadásban énekelte el Donizetti: Elisabeth című operájának címszerepét\, amely egyben világpremier is volt.\n 2002-ben LosAngelesben – Pamina szerepében – volt hallható\, majd 2005-ben ugyanebben Washingtonban. Amadridi Teatro Real meghívására Poulenc: A karmeliták beszélgetései című operájában Blanche szerepét énekelte 2006-ban.\n Amerikában a chicagói Lyric Operában több ízben is vendégszerepelt\, ahol Zerlinát\, Gildát\, Violettát\, Giuliettát és Michaelát énekelt. \n \nMűsor \n1. rész \nGluck: Orfeo és Euridike – Orfeo áriája – Che faro senza Euridice\n Handäl: Messiás oratórium – Rejoice greatly\, O Daughter of Zion\n Mozart: Figaro házassága – A grófné áriája – Porgi amor qualche ristoro\n Mozart: Figaro házassága – Susanna áriája – Giunse alfin il momento\n Mozart: Don Giovanni – Zerlina áriája – Batti\, batti o bel Masetto\nMozart: Figaro házassága – A grófné és Susanna duettje – Canzonetta sull’ aria \n2. rész \nPuccini: Turandot – Liu áriája – Signore ascolta\nPuccini: Gianni Schicchi – Lauretta áriája – O mio babbino caro\nHarazdy Eszter- Tarr Bernadett: Light\n Puccini: Bohémélet – Mimi áriája – Si\, mi chiamano mimi\nHarazdy Eszter- Tarr Bernadett: Prism\nPuccini: Tosca – Tosca imája – Vissi d’arte \n \nBelépőjegyek A Vértes Agorája jegypénztárában is kaphatók.\n Korai elővételben (február 28-áig): 5.200 Ft\n Tatabánya Kártyával: 5.400 Ft\n Teljes ár: 5.800 Ft \nErre a rendezvényre utalványt\, valamint Cafeteria- és SZÉP Kártyát is elfogadunk.\n Bővebb információ \n  \n \nTámogató \n \n
URL:https://old.avertesagoraja.hu/program/rost-andrea/
LOCATION:A Vértes Agorája\, Szent Borbála tér 1.\, Tatabánya\, 2800\, Magyarország
CATEGORIES:Programkínálat
ATTACH;FMTTYPE=image/jpeg:https://old.avertesagoraja.hu/wp-content/uploads/2018/01/rost-elmarad.jpg
END:VEVENT
END:VCALENDAR