BEGIN:VCALENDAR
VERSION:2.0
PRODID:-//A Vértes Agoraja - ECPv4.9.13//NONSGML v1.0//EN
CALSCALE:GREGORIAN
METHOD:PUBLISH
X-WR-CALNAME:A Vértes Agoraja
X-ORIGINAL-URL:https://old.avertesagoraja.hu
X-WR-CALDESC:Events for A Vértes Agoraja
BEGIN:VTIMEZONE
TZID:UTC
BEGIN:STANDARD
TZOFFSETFROM:+0000
TZOFFSETTO:+0000
TZNAME:UTC
DTSTART:20170101T000000
END:STANDARD
END:VTIMEZONE
BEGIN:VEVENT
DTSTART;TZID=UTC:20170126T143000
DTEND;TZID=UTC:20170126T153000
DTSTAMP:20260425T163447
CREATED:20170126T140000Z
LAST-MODIFIED:20170728T071852Z
UID:18954-1485441000-1485444600@old.avertesagoraja.hu
SUMMARY:Rió után - A tatamiról jelentjük
DESCRIPTION:  \n\n\n	\n\n        DSC_0256\n\n        \n\n        \n            \n        \n\n         \n\n        \n\n            \n                \n                    ◄ Előző                \n            \n\n            \n                \n                    Következő                    ►\n                \n            \n\n            \n                Kép                1                 /                22            \n\n            \n                  \n            \n\n        \n    \n\n2017. január 26. (csütörtök)\, 1430 \nA “Rió után” programsorozat nyitóállomása.\nPódiumbeszélgetés olimpikonokkal. \nVendégeink: \nCsernoviczki Éva\nolimpiai bronzérmes cselgáncsozó\,  \nCsernoviczki Csaba\naz Ippon Judo Tatabánya vezetőedzője  \nUngvári Miklós\nolimpiai ezüstérmes és háromszoros Európa-bajnok cselgáncsozó \nA belépés ingyenes. \n
URL:https://old.avertesagoraja.hu/program/rio-utan-a-tatamirol-jelentjuk/
LOCATION:A Vértes Agorája\, Szent Borbála tér 1.\, Tatabánya\, 2800\, Magyarország
CATEGORIES:Archívum
ATTACH;FMTTYPE=image/png:https://old.avertesagoraja.hu/wp-content/uploads/2017/01/640_200_rio_utan_01.png
END:VEVENT
END:VCALENDAR