BEGIN:VCALENDAR
VERSION:2.0
PRODID:-//A Vértes Agoraja - ECPv4.9.13//NONSGML v1.0//EN
CALSCALE:GREGORIAN
METHOD:PUBLISH
X-WR-CALNAME:A Vértes Agoraja
X-ORIGINAL-URL:https://old.avertesagoraja.hu
X-WR-CALDESC:Events for A Vértes Agoraja
BEGIN:VTIMEZONE
TZID:Europe/Paris
BEGIN:DAYLIGHT
TZOFFSETFROM:+0100
TZOFFSETTO:+0200
TZNAME:CEST
DTSTART:20180325T010000
END:DAYLIGHT
BEGIN:STANDARD
TZOFFSETFROM:+0200
TZOFFSETTO:+0100
TZNAME:CET
DTSTART:20181028T010000
END:STANDARD
END:VTIMEZONE
BEGIN:VEVENT
DTSTART;TZID=Europe/Paris:20180321T190000
DTEND;TZID=Europe/Paris:20180321T210000
DTSTAMP:20260425T140536
CREATED:20180105T122206Z
LAST-MODIFIED:20180322T083502Z
UID:31085-1521658800-1521666000@old.avertesagoraja.hu
SUMMARY:ReCirquel | Trükkök
DESCRIPTION:[Not a valid template]\nMüpa produkció. \nA Recirquel Újcirkusz Társulat bő öt évvel ezelőtti megalakulása óta Vági Bence koreográfus-rendező vezetésével bejárta az ország és a világ számos pontját. A társulat legfontosabb célkitűzése\, hogy megismertesse és népszerűsítse a világon a közép-kelet-európai\, magyar újcirkusz irányzatot.  \nVági Bence 2012-ben 11 fiatal artistát kért fel egy a 20. Sziget Fesztiválra készülő produkció megalkotására\, amelyet kirobbanó siker fogadott. A tehetséges csapat hamar magára vonta a közönség és a színházi szakma figyelmét\, s felkérést kapott a Müpától\, valamint a Budapesti Tavaszi Fesztivál szervezőitől\, hogy készítse el első egész estés újcirkusz előadását. Így született meg Vági Bence rendezésében 2013 tavaszán a „Cirkusz az Éjszakában”\, amit a 2014-es Tavaszi Fesztivál keretében „A Meztelen Bohóc”\, majd ősszel a „Párizs Éjjel”\, 2015-ben a „Non Solus”\, 2017-ben pedig az „Adieu!” című produkciók létrehozása követett. \nHazánkban a klasszikus cirkusz gyökerei az 1800-as évekig nyúlnak vissza\, Európa egyik legrégebbi artista iskolája is itt működik 1950 óta. A társulat a magyar cirkuszművészet erős technikai tudását és hagyományait megőrizve máig dolgozik a műfaj állandó megújításán\, amelyben az artisták mellett egyaránt hangsúlyos a zene\, a tánc\, az ének és a színház. \nAz öt egész estés Recirquel produkció a mai napig állandó vendége a Müpa Fesztivál Színházának\, miközben mára a külföldi színházak megkeresései is rendszeressé váltak. \nA Recirquel nemzetközi turnéi során többek között olyan emblematikus helyszíneken lépett fel\, mint a Tel-Aviv-i Opera\, a Cannes-i Filmfesztiválnak otthont adó Palais des Festivals et des Congrés és a kolumbiai Festival Iberoamericano de Teatro de Bogotá\, Dél-Amerika legnagyobb előadóművészeti fesztiválja. \nA nagyszámú hazai fellépés és a külföldi előadások sikerei után végül két nem mindennapi projekttel zárta a 2016/2017-es évadot a társulat. \nA 17. FINA Vizes Világbajnokság záróünnepségének megrendezésére Vági Bencét kérték fel. A monumentális produkció több száz magyar és külföldi cirkuszművész és táncos közreműködésével keltette életre A csodaszarvas legendáját a Papp László Budapest Sportarénában. Ezt követően\, augusztusban a Párizs éjjel egy hónapos szereplése következett a világ legnagyobb fesztiválján\, a skóciai Edinburgh Fringe programjában. Álló taps\, telt házas előadások és szakmai elismerés – így ünnepelte a Recirquel a megalakulás ötödik évfordulóját. \nS most elérkezett az idő\, hogy a tatabányai közönség is megcsodálhassa e kiváló társulat páratlan előadását. \n  \n \nBelépőjegyek A Vértes Agorája jegypénztárában is kaphatók.\nKorai elővételben (február 28-áig): 5.200 Ft\nTatabánya Kártyával: 5.400 Ft\nTeljes ár: 5.800 Ft \nErre a rendezvényre utalványt\, valamint Cafeteria- és SZÉP Kártyát is elfogadunk.\nBővebb információ \n \n \n
URL:https://old.avertesagoraja.hu/program/recirquel/
LOCATION:A Vértes Agorája\, Szent Borbála tér 1.\, Tatabánya\, 2800\, Magyarország
CATEGORIES:Programkínálat
ATTACH;FMTTYPE=image/jpeg:https://old.avertesagoraja.hu/wp-content/uploads/2018/01/TTF_2018_800x400_ReCirquel-1.jpg
END:VEVENT
END:VCALENDAR