BEGIN:VCALENDAR
VERSION:2.0
PRODID:-//A Vértes Agoraja - ECPv4.9.13//NONSGML v1.0//EN
CALSCALE:GREGORIAN
METHOD:PUBLISH
X-WR-CALNAME:A Vértes Agoraja
X-ORIGINAL-URL:https://old.avertesagoraja.hu
X-WR-CALDESC:Events for A Vértes Agoraja
BEGIN:VTIMEZONE
TZID:Europe/Paris
BEGIN:DAYLIGHT
TZOFFSETFROM:+0100
TZOFFSETTO:+0200
TZNAME:CEST
DTSTART:20190331T010000
END:DAYLIGHT
BEGIN:STANDARD
TZOFFSETFROM:+0200
TZOFFSETTO:+0100
TZNAME:CET
DTSTART:20191027T010000
END:STANDARD
END:VTIMEZONE
BEGIN:VEVENT
DTSTART;TZID=Europe/Paris:20190217T100000
DTEND;TZID=Europe/Paris:20190217T110000
DTSTAMP:20260425T162851
CREATED:20190206T172729Z
LAST-MODIFIED:20190206T173706Z
UID:42434-1550397600-1550401200@old.avertesagoraja.hu
SUMMARY:RáHangoló | Úgy táncoljunk\, ahogy fújják!
DESCRIPTION:Jegyvásárlás\n  \nFarsangra hangoló fúvós muzsika \na Tölcséres banda tagjaival\nA RáHangoló sorozat februári koncertjén a szórakoztató hagyományápolás céljából létrejött\, sziporkázó hangszeres játékáról ismert Tölcséres banda tagjai ’viszik a prímet’. Műsorukban a magyar népzene kevésbé ismert szegmensét\, a rezesbandákat idézik meg. \nMűsorvezető és sorozatszerkesztő: Ocskai Gabriella. \n  \nBelépőjegyek A Vértes Agorája jegypénztárában is kaphatók.\nUtalványt\, valamint Cafeteria- és SZÉP Kártyát erre a rendezvényre elfogadunk.\nBővebb információ\n
URL:https://old.avertesagoraja.hu/program/rahangolo-tolcseres-farsang/
LOCATION:A Vértes Agorája\, Szent Borbála tér 1.\, Tatabánya\, 2800\, Magyarország
CATEGORIES:Programkínálat
ATTACH;FMTTYPE=image/jpeg:https://old.avertesagoraja.hu/wp-content/uploads/2019/02/Rahangolo_2019_800x400_FEBR.jpg
END:VEVENT
END:VCALENDAR