BEGIN:VCALENDAR
VERSION:2.0
PRODID:-//A Vértes Agoraja - ECPv4.9.13//NONSGML v1.0//EN
CALSCALE:GREGORIAN
METHOD:PUBLISH
X-WR-CALNAME:A Vértes Agoraja
X-ORIGINAL-URL:https://old.avertesagoraja.hu
X-WR-CALDESC:Events for A Vértes Agoraja
BEGIN:VTIMEZONE
TZID:Europe/Paris
BEGIN:DAYLIGHT
TZOFFSETFROM:+0100
TZOFFSETTO:+0200
TZNAME:CEST
DTSTART:20190331T010000
END:DAYLIGHT
BEGIN:STANDARD
TZOFFSETFROM:+0200
TZOFFSETTO:+0100
TZNAME:CET
DTSTART:20191027T010000
END:STANDARD
END:VTIMEZONE
BEGIN:VEVENT
DTSTART;TZID=Europe/Paris:20190324T100000
DTEND;TZID=Europe/Paris:20190324T110000
DTSTAMP:20260425T130852
CREATED:20190201T105226Z
LAST-MODIFIED:20190520T085846Z
UID:42318-1553421600-1553425200@old.avertesagoraja.hu
SUMMARY:RáHangoló | A papucsszaggató királykisasszonyok
DESCRIPTION:\n\n	\n\n        20190324_01\n\n        \n\n        \n            \n        \n\n         \n\n        \n\n            \n                \n                    ◄ Előző                \n            \n\n            \n                \n                    Következő                    ►\n                \n            \n\n            \n                Kép                1                 /                26            \n\n            \n                  \n            \n\n        \n    \n\n\n \nZENÉS MESEJÁTÉK\nA RáHangoló\, a korai zenei nevelés céljával lassan egy évtizede van jelen Tatabányán és térségében\, s ötödik éve\, hogy családi koncertjeinek A Vértes Agorája ad otthont. A repertoár folyamatosan bővül\, a helyben működő művészeti csoportokkal való együttműködésnek köszönhetően pedig időről időre egyedülálló produkciók születnek.  \nA Tatabányai Tavaszi Fesztiválon is egy ilyen előadás ősbemutatójára kerül sor: \n2019-ben ünnepeljük Benedek Elek születésének 160. évfordulóját. A RáHangoló különleges előadással emlékezik a nagy mesemondóra: népzene és néptánc\, klasszikus zene és történelmi táncok segítségével kelti életre a juhászlegény és a királylányok varázslatos elemekkel tarkított történetét. \nA mesejátékban közreműködnek a Forgórózsa Népművészeti Központ táncosai és énekesei is. \nKoreográfus: Szegvári Ildikó\nZenei szerkesztő: Ocskai Gabriella \n  \n \nJegyárak\, egységesen: 1.100 Ft.\nBelépőjegyek A Vértes Agorája jegypénztárában is kaphatók.\nUtalványt\, valamint Cafeteria- és SZÉP Kártyát erre a rendezvényre elfogadunk.\nBővebb információ\n \n \n \nA fesztivál fő támogatója a \nBRIDGESTONE\n
URL:https://old.avertesagoraja.hu/program/rahangolo-benedek-elek/
LOCATION:A Vértes Agorája\, Szent Borbála tér 1.\, Tatabánya\, 2800\, Magyarország
CATEGORIES:Programkínálat
ATTACH;FMTTYPE=image/jpeg:https://old.avertesagoraja.hu/wp-content/uploads/2019/02/TTF_2019_800x400_RAHANGOLO.jpg
END:VEVENT
END:VCALENDAR