BEGIN:VCALENDAR
VERSION:2.0
PRODID:-//A Vértes Agoraja - ECPv4.9.13//NONSGML v1.0//EN
CALSCALE:GREGORIAN
METHOD:PUBLISH
X-WR-CALNAME:A Vértes Agoraja
X-ORIGINAL-URL:https://old.avertesagoraja.hu
X-WR-CALDESC:Events for A Vértes Agoraja
BEGIN:VTIMEZONE
TZID:Europe/Paris
BEGIN:DAYLIGHT
TZOFFSETFROM:+0100
TZOFFSETTO:+0200
TZNAME:CEST
DTSTART:20180325T010000
END:DAYLIGHT
BEGIN:STANDARD
TZOFFSETFROM:+0200
TZOFFSETTO:+0100
TZNAME:CET
DTSTART:20181028T010000
END:STANDARD
END:VTIMEZONE
BEGIN:VEVENT
DTSTART;TZID=Europe/Paris:20180311T100000
DTEND;TZID=Europe/Paris:20180311T110000
DTSTAMP:20260426T005926
CREATED:20180118T160046Z
LAST-MODIFIED:20180312T120247Z
UID:31571-1520762400-1520766000@old.avertesagoraja.hu
SUMMARY:RáHangoló | A kis herceg I-II.
DESCRIPTION:  \n[Not a valid template]\n“Ha megszelídítesz\, megfényesednék tőle az életem.\nLépések neszét hallanám\, amely az összes többi lépés neszétől különböznék. A többi lépés arra késztet\, hogy a föld alá bújjak.\nA tiéd\, mint valami muzsika\, előcsalna a lyukamból.” \nA RáHangoló csapata az idei Tavaszi Fesztiválra igazi családi programmal készül. Egy olyan mesével\, ami sokak életében kulcstörténet: szinte minden életkorban és élethelyzetben tartogat valami mondanivalót. \nA kis herceg szemén keresztül egy másik világ tárul fel előttünk\, amely talán visszaállít valamit a szeretetbe\, a bizalomba\, az egymásért való felelősségvállalásba vetett hitünkből – ami gyermekként természetes\, de felnőttként sem szabadna elfelejteni! \nA kis herceg hatalmas sikerét bizonyítja\, hogy szinte valamennyi nyelvre lefordították\, filmek készültek belőle és ezek az örök igazságok most S. Halász Károly zenéjével\, a Silhouette Balett táncosaival elevenednek meg A Vértes Agorája színpadán. \nAz előadás ősbemutató lesz: a mesebalett két részben született meg\, most először kerül egészben\, egységes művé komponálva a közönség elé. \nZene: S. Halász Károly\nKözreműködnek a Silhouette Balett táncosai\nKoreográfus: Csáky Mária\nSzerkesztő\, műsorvezető: Ocskai Gabriella \n \nBelépőjegyek A Vértes Agorája jegypénztárában is kaphatók. \nErre a rendezvényre utalványt\, valamint Cafeteria- és SZÉP Kártyát is elfogadunk\, Tatabánya Kártyát azonban nem.\nBővebb információ \n  \n
URL:https://old.avertesagoraja.hu/program/rahangolo-a-kis-herceg-2/
LOCATION:A Vértes Agorája\, Szent Borbála tér 1.\, Tatabánya\, 2800\, Magyarország
CATEGORIES:Programkínálat
ATTACH;FMTTYPE=image/jpeg:https://old.avertesagoraja.hu/wp-content/uploads/2018/01/TTF_2018_800x400_A-kis-herceg.jpg
END:VEVENT
END:VCALENDAR