BEGIN:VCALENDAR
VERSION:2.0
PRODID:-//A Vértes Agoraja - ECPv4.9.13//NONSGML v1.0//EN
CALSCALE:GREGORIAN
METHOD:PUBLISH
X-WR-CALNAME:A Vértes Agoraja
X-ORIGINAL-URL:https://old.avertesagoraja.hu
X-WR-CALDESC:Events for A Vértes Agoraja
BEGIN:VTIMEZONE
TZID:UTC
BEGIN:STANDARD
TZOFFSETFROM:+0000
TZOFFSETTO:+0000
TZNAME:UTC
DTSTART:20170101T000000
END:STANDARD
END:VTIMEZONE
BEGIN:VEVENT
DTSTART;TZID=UTC:20170919T190000
DTEND;TZID=UTC:20170919T213000
DTSTAMP:20260425T210419
CREATED:20170728T075322Z
LAST-MODIFIED:20170921T112431Z
UID:24583-1505847600-1505856600@old.avertesagoraja.hu
SUMMARY:Ráadás - Bródy János koncertje
DESCRIPTION:  \n\n\n	\n\n        20170919_01\n\n        \n\n        \n            \n        \n\n         \n\n        \n\n            \n                \n                    ◄ Előző                \n            \n\n            \n                \n                    Következő                    ►\n                \n            \n\n            \n                Kép                1                 /                27            \n\n            \n                  \n            \n\n        \n    \n\n\n\n  \nLemezbemutató koncertre érkezik Tatabányára Bródy János\, akit különleges összeállítású zenekar kísér.\nA Kirschner Péter gitáros által vezetett zenekar tagjai: Roszik Hella hegedű\, Szabó Ádám harmonika\, Bakos Zita zongora\, Winterverber Csaba basszusgitár\, Prommer Patrik dobok és Baka Rebeka vokál. \n \n \nBelépőjegyek A Vértes Agorája jegypénztárában is kaphatók. \nUtalványt\, valamint Cafeteria- és SZÉP Kártyát erre a rendezvényre nem áll módunkban elfogadni.\nBővebb információ \n \n \n
URL:https://old.avertesagoraja.hu/program/raadas-brody-janos-koncertje/
LOCATION:A Vértes Agorája\, Szent Borbála tér 1.\, Tatabánya\, 2800\, Magyarország
CATEGORIES:Programkínálat
ATTACH;FMTTYPE=image/jpeg:https://old.avertesagoraja.hu/wp-content/uploads/2017/07/Brody_2017_800x400.jpg
END:VEVENT
END:VCALENDAR