BEGIN:VCALENDAR
VERSION:2.0
PRODID:-//A Vértes Agoraja - ECPv4.9.13//NONSGML v1.0//EN
CALSCALE:GREGORIAN
METHOD:PUBLISH
X-WR-CALNAME:A Vértes Agoraja
X-ORIGINAL-URL:https://old.avertesagoraja.hu
X-WR-CALDESC:Events for A Vértes Agoraja
BEGIN:VTIMEZONE
TZID:Europe/Helsinki
BEGIN:DAYLIGHT
TZOFFSETFROM:+0200
TZOFFSETTO:+0300
TZNAME:EEST
DTSTART:20220327T010000
END:DAYLIGHT
BEGIN:STANDARD
TZOFFSETFROM:+0300
TZOFFSETTO:+0200
TZNAME:EET
DTSTART:20221030T010000
END:STANDARD
END:VTIMEZONE
BEGIN:VEVENT
DTSTART;TZID=Europe/Helsinki:20221015T190000
DTEND;TZID=Europe/Helsinki:20221015T203000
DTSTAMP:20260426T010543
CREATED:20220914T071539Z
LAST-MODIFIED:20220914T133657Z
UID:58974-1665860400-1665865800@old.avertesagoraja.hu
SUMMARY:Pál Utcai Fiúk koncert
DESCRIPTION:Az alternatív rockot játszó Pál Utcai Fiúk köszönték szépen\, de nem kértek a népszerűséggel – megítélésük szerint – együttjáró populizmusból\, s mivel az előbbi meredeken ívelt felfelé\, ezért inkább visszahúzódtak a klubok miliőjébe. Zenei világuk így szép lassan kiteljesedett és karakteresen egyedivé érett\, ahogy a zenei kísérletezés és a más előadókkal való közös alkotás is az együttes egyfajta védjegyévé lett. \nMa már a kluboktól a nagy és elegáns koncerttermeken át a fesztiválok színpadáig önazonos koncertekkel varázsolják el a széles közönséget. S amikor kimondjuk\, hogy „Pál utcai fiúk”\, Lecsó éppen olyan gyakran jut eszünkbe\, mint Nemecsek Ernő! \nOktóber közepén Tatabányán\, az Agorában lépnek színpadra\, hogy enyhítsék az űrt\, ami az augusztus 20-án meghiúsult koncert miatt keletkezett. \nA koncert a nagyteremben lesz. A belépés ingyenes\, a helyfoglalás az érkezés sorrendjében történik\, a terem befogadóképességéig (441 fő).\n \n
URL:https://old.avertesagoraja.hu/program/puf-2022/
LOCATION:A Vértes Agorája\, Szent Borbála tér 1.\, Tatabánya\, 2800\, Magyarország
CATEGORIES:Programkínálat,Saját szervezésű rendezvény
ATTACH;FMTTYPE=image/png:https://old.avertesagoraja.hu/wp-content/uploads/2022/09/800X400-2.png
END:VEVENT
END:VCALENDAR