BEGIN:VCALENDAR
VERSION:2.0
PRODID:-//A Vértes Agoraja - ECPv4.9.13//NONSGML v1.0//EN
CALSCALE:GREGORIAN
METHOD:PUBLISH
X-WR-CALNAME:A Vértes Agoraja
X-ORIGINAL-URL:https://old.avertesagoraja.hu
X-WR-CALDESC:Events for A Vértes Agoraja
BEGIN:VTIMEZONE
TZID:Europe/Paris
BEGIN:DAYLIGHT
TZOFFSETFROM:+0100
TZOFFSETTO:+0200
TZNAME:CEST
DTSTART:20220327T010000
END:DAYLIGHT
BEGIN:STANDARD
TZOFFSETFROM:+0200
TZOFFSETTO:+0100
TZNAME:CET
DTSTART:20221030T010000
END:STANDARD
END:VTIMEZONE
BEGIN:VEVENT
DTSTART;TZID=Europe/Paris:20221107T180000
DTEND;TZID=Europe/Paris:20221107T200000
DTSTAMP:20260425T172530
CREATED:20221018T143221Z
LAST-MODIFIED:20221018T144430Z
UID:59322-1667844000-1667851200@old.avertesagoraja.hu
SUMMARY:Őszi filmnapok I. | Szia\, Életem!
DESCRIPTION:[vc_row][vc_column][vc_column_text] \nmagyar vígjáték | 114 perc | 2022 \n16 éven aluliak számára nem ajánlott\nAz Őszi filmnapok elnevezésű sorozat egy szívmelengető történettel indul. A Szia\, Életem! című magyar film – amellett\, hogy kimondottan szórakoztató – erősen hat az érzelmekre\, s nagyon könnyű belehelyezkedni. Főhőse\, egy népszerű\, ám átmeneti ihlethiánnyal – és még néhány mentális bukfenccel – küzdő író\, akire egyszercsak ráhagyják sosem látott kisfiát. Az addig csak magának élő férfi nehezen birkózik meg ezzel az élethelyzettel. S bár eleinte kétségbeesetten tiltakozik\, ellenállását hamar megtöri a gyengéd szeretet. \nApa és fia egymásra találását\, a családdá válást egy vidám\, fantasy elemekkel átszőtt – remek színészi alakításokkal életre keltett – történetben kísérhetjük végig.[/vc_column_text][/vc_column][/vc_row][vc_row][vc_column width=”1/2″][vc_column_text] \nAlkotók\nRendező\nRohonyi Gábor\, Vékes Csaba\nForgatókönyvíró: Vékes Csaba\nOperatőr: Szatmári Péter\nVágó: Mezei Áron\n [/vc_column_text][/vc_column][vc_column width=”1/2″][vc_column_text] \nSzereplők\nThuróczy Szabolcs Barna\nPásztor-Várady Mór Samu\nSárközi-Nagy Ilona Sára\nKovács Patrícia Párduc\nMucsi Zoltán kiadóvezető\nBásti Juli szomszéd\nVékes Csaba Barna barátja\nTasnádi Bence menedzser\nPálmai Anna taxisofőr\nSzűcs Nelli becsüs\nKiss Diána Magdolna bébiszitter\nScherer Péter producer\nTakács Nóra Diána gyermekgondozó\nElek Ferenc orvos\n[/vc_column_text][/vc_column][/vc_row][vc_row][vc_column][vc_column_text] \n\nA vetítés A Vértes Agorájában lesz. A helyfoglalás az érkezés sorrendjében történik\, a nagyterem befogadóképességéig.\n[/vc_column_text][/vc_column][/vc_row][vc_row][vc_column][vc_column_text][/vc_column_text][/vc_column][/vc_row][vc_row][vc_column][vc_column_text][/vc_column_text][/vc_column][/vc_row] \n
URL:https://old.avertesagoraja.hu/program/oszi-filmnapok-2022-i/
LOCATION:A Vértes Agorája\, Szent Borbála tér 1.\, Tatabánya\, 2800\, Magyarország
CATEGORIES:Programkínálat
ATTACH;FMTTYPE=image/png:https://old.avertesagoraja.hu/wp-content/uploads/2022/10/oszi-filmnapok-2022-800x400_1.png
END:VEVENT
END:VCALENDAR