BEGIN:VCALENDAR
VERSION:2.0
PRODID:-//A Vértes Agoraja - ECPv4.9.13//NONSGML v1.0//EN
CALSCALE:GREGORIAN
METHOD:PUBLISH
X-WR-CALNAME:A Vértes Agoraja
X-ORIGINAL-URL:https://old.avertesagoraja.hu
X-WR-CALDESC:Events for A Vértes Agoraja
BEGIN:VTIMEZONE
TZID:Europe/Paris
BEGIN:DAYLIGHT
TZOFFSETFROM:+0100
TZOFFSETTO:+0200
TZNAME:CEST
DTSTART:20190331T010000
END:DAYLIGHT
BEGIN:STANDARD
TZOFFSETFROM:+0200
TZOFFSETTO:+0100
TZNAME:CET
DTSTART:20191027T010000
END:STANDARD
END:VTIMEZONE
BEGIN:VEVENT
DTSTART;TZID=Europe/Paris:20190207T190000
DTEND;TZID=Europe/Paris:20190207T220000
DTSTAMP:20260425T042220
CREATED:20180801T101941Z
LAST-MODIFIED:20190215T102536Z
UID:37776-1549566000-1549576800@old.avertesagoraja.hu
SUMMARY:"Puccini Itáliája" - operagála
DESCRIPTION:\n\n	\n\n        20190207_01\n\n        \n\n        \n            \n        \n\n         \n\n        \n\n            \n                \n                    ◄ Előző                \n            \n\n            \n                \n                    Következő                    ►\n                \n            \n\n            \n                Kép                1                 /                13            \n\n            \n                A felvétel forrása: Magyar Állami Operaház. - Fotó: Rákossy Péter. Köszönjük az engedélyt! \n            \n\n        \n    \n\n\n  \nOperát az Operából\nharmadik előadás \n  \nA programsorozatban nem csupán szimfonikus hangverseny\, koncertszerű opera-előadás\, balett-est\, hanem gálaműsor is helyet kap\, amelyet a Puccini-évad ihletett: annak bemutató és repertoár-előadásaiból válogatták össze a szervezők a programot. \nA műsorban Puccini közkedvelt művei mellett népszerű áriák csendülnek fel\, többek között Mascagni\, Ponchielli\, Giordano\, Cilea és Leoncavallo operáiból. \nKözreműködik a Magyar Állami Operaház Zenekara és Énekkara\nKarmester: Szennai Kálmán / Silló István\n\n \nBelépőjegyek A Vértes Agorája jegypénztárában is kaphatók: 2.000 Ft\nUtalványt\, valamint Cafeteria- és SZÉP Kártyát erre a rendezvényre nem áll módunkban elfogadni.\nBővebb információ\n
URL:https://old.avertesagoraja.hu/program/opera-3/
LOCATION:A Vértes Agorája\, Szent Borbála tér 1.\, Tatabánya\, 2800\, Magyarország
CATEGORIES:Programkínálat
ATTACH;FMTTYPE=image/jpeg:https://old.avertesagoraja.hu/wp-content/uploads/2018/08/OO_web_800x400px_Tatabanya_puccini_italiaja.jpg
END:VEVENT
END:VCALENDAR