BEGIN:VCALENDAR
VERSION:2.0
PRODID:-//A Vértes Agoraja - ECPv4.9.13//NONSGML v1.0//EN
CALSCALE:GREGORIAN
METHOD:PUBLISH
X-WR-CALNAME:A Vértes Agoraja
X-ORIGINAL-URL:https://old.avertesagoraja.hu
X-WR-CALDESC:Events for A Vértes Agoraja
BEGIN:VTIMEZONE
TZID:UTC
BEGIN:STANDARD
TZOFFSETFROM:+0000
TZOFFSETTO:+0000
TZNAME:UTC
DTSTART:20170101T000000
END:STANDARD
END:VTIMEZONE
BEGIN:VEVENT
DTSTART;TZID=UTC:20170130T190000
DTEND;TZID=UTC:20170130T203000
DTSTAMP:20260425T130836
CREATED:20170130T180001Z
LAST-MODIFIED:20170728T072110Z
UID:18726-1485802800-1485808200@old.avertesagoraja.hu
SUMMARY:Nyitott Akadémia - Dr. Buda László
DESCRIPTION:  \n\n\n	\n\n        DSC_0996\n\n        \n\n        \n            \n        \n\n         \n\n        \n\n            \n                \n                    ◄ Előző                \n            \n\n            \n                \n                    Következő                    ►\n                \n            \n\n            \n                Kép                1                 /                14            \n\n            \n                  \n            \n\n        \n    \n\n\nNyitott Akadémia – Tatabányán \nÖnelfogadás\, önszeretet\, öngyógyítás a gyakorlatban \nHelyszín: 2800 Tatabánya\, A Vértes Agorája\, Szent Borbála tér 1. \nJegyár: 2.300 Ft\nBelépőjegyek A Vértes Agorája jegypénztárában is kaphatók.\n \nUtalványt\, valamint Cafeteria- és SZÉP Kártyát erre a rendezvényre nem áll módunkban elfogadni.\nBővebben \n  \n
URL:https://old.avertesagoraja.hu/program/nyitott-akademia-dr-buda-laszlo/
LOCATION:A Vértes Agorája\, Szent Borbála tér 1.\, Tatabánya\, 2800\, Magyarország
CATEGORIES:Archívum
ATTACH;FMTTYPE=image/png:https://old.avertesagoraja.hu/wp-content/uploads/2017/01/buda_laszlo_640_200_elkelt-1.png
END:VEVENT
END:VCALENDAR