BEGIN:VCALENDAR
VERSION:2.0
PRODID:-//A Vértes Agoraja - ECPv4.9.13//NONSGML v1.0//EN
CALSCALE:GREGORIAN
METHOD:PUBLISH
X-WR-CALNAME:A Vértes Agoraja
X-ORIGINAL-URL:https://old.avertesagoraja.hu
X-WR-CALDESC:Events for A Vértes Agoraja
BEGIN:VTIMEZONE
TZID:UTC
BEGIN:STANDARD
TZOFFSETFROM:+0000
TZOFFSETTO:+0000
TZNAME:UTC
DTSTART:20170101T000000
END:STANDARD
END:VTIMEZONE
BEGIN:VEVENT
DTSTART;TZID=UTC:20170818T190000
DTEND;TZID=UTC:20170818T203000
DTSTAMP:20260425T151739
CREATED:20170630T054747Z
LAST-MODIFIED:20170819T150103Z
UID:20274-1503082800-1503088200@old.avertesagoraja.hu
SUMMARY:Nyáresti vetítések III. - Jackie
DESCRIPTION:\n\n	\n\n        20170818_01\n\n        \n\n        \n            \n        \n\n         \n\n        \n\n            \n                \n                    ◄ Előző                \n            \n\n            \n                \n                    Következő                    ►\n                \n            \n\n            \n                Kép                1                 /                7            \n\n            \n                  \n            \n\n        \n    \n\n\nMagyarul beszélő\, amerikai-chilei-francia életrajzi dráma\, 100 perc\, 2016 \nA First Ladyt\, Jacqueline Bouvier Kennedyt a világ egyszerűen csak Jackie-ként ismerte meg. Az amerikai történelem egyik legfiatalabb elnökfelesége volt\, mindössze harmincegy éves\, amikor Kennedyt beiktatták. Az egész ország rajongott érte\, nagy szerepe volt abban\, hogy JFK elnöksége alatt gyökeresen megváltozott az amerikai közvélemény viszonya a Fehér Házhoz és az elnöki párhoz.\nA fiatal\, vonzó és intelligens nő felfoghatatlan nyomás alá került 1963 novemberében: dallasi látogatásukkor lelőtték közvetlenül mellette ülő férjét az őket szállító autóban. A férfi elvesztését követően Jackie-nek felül kellett emelkednie a személyes gyászán\, méltósággal és állhatatosan vitte tovább JFK szellemi örökségét és mutatott példát az egész világnak. \n\nSzereplők\n\n\nJacqueline Kennedy – Natalie Portman  \n\n\nRobert Kennedy – Peter Sarsgaard  \n\n\nNancy Tuckerman – Greta Gerwig  \n\n\naz újságíró – Billy Crudup  \n\n\na pap – John Hurt  \n\n\nLyndon Baines Johnson – John Carroll Lynch  \n\n\nWilliam Walton – Richard E. Grant  \n\n\nJack Valenti – Max Casella  \n\n\nJohn Fitzgerald Kennedy – Caspar Phillipson  \n\n\n \n\nAlkotók\nrendező:  Pablo Larraín\nforgatókönyvíró:  Noah Oppenheim\noperatőr:  Stéphane Fontaine\nzene:  Mica Levi  \n  \nForrás: www.port.hu \nA belépés ingyenes. \n \n \n
URL:https://old.avertesagoraja.hu/program/nyaresti-vetitesek-iii-jackie/
LOCATION:A Vértes Agorája\, Szent Borbála tér 1.\, Tatabánya\, 2800\, Magyarország
CATEGORIES:Programkínálat
ATTACH;FMTTYPE=image/jpeg:https://old.avertesagoraja.hu/wp-content/uploads/2017/06/201708-Nyaresti_Vetitesek_UJCikk_800x400_3.jpg
END:VEVENT
END:VCALENDAR