BEGIN:VCALENDAR
VERSION:2.0
PRODID:-//A Vértes Agoraja - ECPv4.9.13//NONSGML v1.0//EN
CALSCALE:GREGORIAN
METHOD:PUBLISH
X-WR-CALNAME:A Vértes Agoraja
X-ORIGINAL-URL:https://old.avertesagoraja.hu
X-WR-CALDESC:Events for A Vértes Agoraja
BEGIN:VTIMEZONE
TZID:Europe/Paris
BEGIN:DAYLIGHT
TZOFFSETFROM:+0100
TZOFFSETTO:+0200
TZNAME:CEST
DTSTART:20190331T010000
END:DAYLIGHT
BEGIN:STANDARD
TZOFFSETFROM:+0200
TZOFFSETTO:+0100
TZNAME:CET
DTSTART:20191027T010000
END:STANDARD
END:VTIMEZONE
BEGIN:VEVENT
DTSTART;TZID=Europe/Paris:20190823T190000
DTEND;TZID=Europe/Paris:20190823T203000
DTSTAMP:20260425T142745
CREATED:20190530T150351Z
LAST-MODIFIED:20190826T070524Z
UID:45620-1566586800-1566592200@old.avertesagoraja.hu
SUMMARY:Nyáresti vetítések IV. | A szavak ereje
DESCRIPTION:[vc_row][vc_column][vc_column_text] \n\n\n	\n\n        20190823_01\n\n        \n\n        \n            \n        \n\n         \n\n        \n\n            \n                \n                    ◄ Előző                \n            \n\n            \n                \n                    Következő                    ►\n                \n            \n\n            \n                Kép                1                 /                15            \n\n            \n                  \n            \n\n        \n    \n\n\n\nSometimes\, always\, never | angol vígjáték | 91 perc | 2018\n12 éven aluliak számára a megtekintése nagykorú felügyelete mellett ajánlott \nMichael egy családi Scrabble-játszma közepén viharzott el egy vita után\, és azóta senki sem látta. Évek teltek el\, de apja\, Alan nem adja fel a reményt\, és az internetes Scrabble-fórumokon is fáradhatatlanul folytatja a megszállott nyomozást. Egyszer csak felfigyel egy titokzatos játékosra\, akinek a stílusa kísértetiesen hasonlít Michaeléra…  \nForrás: port.hu \n[/vc_column_text][/vc_column][/vc_row][vc_row][vc_column width=”1/2″][vc_column_text] \nAlkotók\nrendező: Carl Hunter\nforgatókönyvíró:\nFrank Cottrell Boyce\noperatőr: Richard Stoddard\nzene: Edwyn Collins\nSean Read\nRalf Wengenmayr\nvágó: Stephen Haren[/vc_column_text][/vc_column][vc_column width=”1/2″][vc_column_text] \nSzereplők\n\n\nDevika\nAhmareen Anjum\n\n\nAshwin\nVivek Gomber\n\n\nLaxmi\nGeetanjali Kulkarni\n\n\nRatna\nTilotama Shome\n\n\nHaresh\nRahul Vohra\n\n\n \n[/vc_column_text][/vc_column][/vc_row][vc_row][vc_column][vc_column_text] \nA vetítés A Vértes Agorájában lesz. A helyfoglalás az érkezés sorrendjében történik\, a nagyterem befogadóképességéig. Előzetes regisztráció nem szükséges.\n[/vc_column_text][/vc_column][/vc_row][vc_row][vc_column][vc_column_text][/vc_column_text][/vc_column][/vc_row] \n
URL:https://old.avertesagoraja.hu/program/nyaresti-vetitesek-2019-iv/
LOCATION:A Vértes Agorája\, Szent Borbála tér 1.\, Tatabánya\, 2800\, Magyarország
CATEGORIES:Programkínálat
ATTACH;FMTTYPE=image/jpeg:https://old.avertesagoraja.hu/wp-content/uploads/2019/05/Nyaresti_Filmek_2019_800x400_4.jpg
END:VEVENT
END:VCALENDAR