BEGIN:VCALENDAR
VERSION:2.0
PRODID:-//A Vértes Agoraja - ECPv4.9.13//NONSGML v1.0//EN
CALSCALE:GREGORIAN
METHOD:PUBLISH
X-WR-CALNAME:A Vértes Agoraja
X-ORIGINAL-URL:https://old.avertesagoraja.hu
X-WR-CALDESC:Events for A Vértes Agoraja
BEGIN:VTIMEZONE
TZID:Europe/Paris
BEGIN:DAYLIGHT
TZOFFSETFROM:+0100
TZOFFSETTO:+0200
TZNAME:CEST
DTSTART:20190331T010000
END:DAYLIGHT
BEGIN:STANDARD
TZOFFSETFROM:+0200
TZOFFSETTO:+0100
TZNAME:CET
DTSTART:20191027T010000
END:STANDARD
END:VTIMEZONE
BEGIN:VEVENT
DTSTART;TZID=Europe/Paris:20190802T190000
DTEND;TZID=Europe/Paris:20190802T203000
DTSTAMP:20260425T130928
CREATED:20190530T134313Z
LAST-MODIFIED:20190806T070614Z
UID:45592-1564772400-1564777800@old.avertesagoraja.hu
SUMMARY:Nyáresti vetítések I. | Lajkó - Cigány az űrben
DESCRIPTION:[vc_row][vc_column][vc_column_text] \n\n\n	\n\n        20190802_01\n\n        \n\n        \n            \n        \n\n         \n\n        \n\n            \n                \n                    ◄ Előző                \n            \n\n            \n                \n                    Következő                    ►\n                \n            \n\n            \n                Kép                1                 /                13            \n\n            \n                  \n            \n\n        \n    \n\n\n \n\nmagyar fekete komédia | 90 perc | 2018\n16 éven aluliak számára nem ajánlott \n1957 elején a Nagy Szovjetunió úgy dönt\, hogy baráti országai közül Magyarországnak ad esélyt\, hogy kiválassza a földkerekség első kozmonautáját\, aki majd az első ember lehet az űrben. Karmazsin Jenő elvtárs\, a Kunmadarasi Vörösiszap Termelőszövetkezet elnöke tudja is\, ki lehetne a legmegfelelőbb jelölt a nagy utazásra: Serbán Lajos\, azaz Lajkó\, ahogy mindenki hívja\, már gyermekkora óta betegesen vonzódik a csillagokhoz. Ezt a vonzalmat nem kis részben anyjának köszönheti\, aki beavatta a cigány asztrológia rejtelmeibe\, és sajnálatos módon\, Lajkó egyik rosszul sikerült rakétakísérletének következtében\, már nem lehet velük. Lajkó egész életét egyetlen célnak rendeli alá: eljutni az űrbe\, és ott bocsánatot kérni anyjától. Mikor Lajkót kiválasztják az űrutazásra\, még nem is sejti\, hogy álmai nem véletlenül válnak épp most valóra. Ám előbb Bajkonurban\, egy különleges verseny keretében dől el\, hogy a magyar Lajkó\, a német Helga Mengele\, az észt Ilmar\, vagy a mongol Timuzsin lesz-e a szerencsés kiválasztott\, a versenyt ráadásul maga Leonyid Brezsnyev elnököli. Közben pedig Lajkó apja is újra és újra feltűnik\, tovább bonyolítva Lajkó kalandjait.  \nForrás: port.hu \n[/vc_column_text][/vc_column][/vc_row][vc_row][vc_column width=”1/2″][vc_column_text] \nAlkotók\nrendező: Lengyel Balázs\nforgatókönyv: Lengyel Balázs Lovas Balázs\noperatőr: Réder György\nzene: Balázs Ádám\nvágó: Kiss Wanda\n[/vc_column_text][/vc_column][vc_column width=”1/2″][vc_column_text] \nSzereplők\n\n\n\n\n\nLajkó – Serbán Lajos \nKeresztes Tamás\n\n\nKarmazsin Jenő \nGyabronka József\n\n\n \nPálffy Tibor\nPapadimitriu Athina\nTrokán Anna\nTrokán Nóra\nSzirtes Ági\nMáté Gábor\nRajkai Zoltán\nTrill Zsolt\nLukács Andor\nAnna Böger\nVarga Zétény\nGosztonyi Csaba\nFehér László\n\n\n\n\n\n[/vc_column_text][/vc_column][/vc_row][vc_row][vc_column][vc_column_text] \nA vetítés A Vértes Agorájában lesz. A helyfoglalás az érkezés sorrendjében történik\, a nagyterem befogadóképességéig. Előzetes regisztráció nem szükséges.\n[/vc_column_text][/vc_column][/vc_row][vc_row][vc_column][vc_column_text][/vc_column_text][/vc_column][/vc_row] \n
URL:https://old.avertesagoraja.hu/program/nyaresti-vetitesek-2019-i/
LOCATION:A Vértes Agorája\, Szent Borbála tér 1.\, Tatabánya\, 2800\, Magyarország
CATEGORIES:Programkínálat
ATTACH;FMTTYPE=image/jpeg:https://old.avertesagoraja.hu/wp-content/uploads/2019/05/Nyaresti_Filmek_2019_800x400_1.jpg
END:VEVENT
END:VCALENDAR