BEGIN:VCALENDAR
VERSION:2.0
PRODID:-//A Vértes Agoraja - ECPv4.9.13//NONSGML v1.0//EN
CALSCALE:GREGORIAN
METHOD:PUBLISH
X-WR-CALNAME:A Vértes Agoraja
X-ORIGINAL-URL:https://old.avertesagoraja.hu
X-WR-CALDESC:Events for A Vértes Agoraja
BEGIN:VTIMEZONE
TZID:Europe/Helsinki
BEGIN:DAYLIGHT
TZOFFSETFROM:+0200
TZOFFSETTO:+0300
TZNAME:EEST
DTSTART:20230326T010000
END:DAYLIGHT
BEGIN:STANDARD
TZOFFSETFROM:+0300
TZOFFSETTO:+0200
TZNAME:EET
DTSTART:20231029T010000
END:STANDARD
END:VTIMEZONE
BEGIN:VEVENT
DTSTART;TZID=Europe/Helsinki:20230121T190000
DTEND;TZID=Europe/Helsinki:20230121T210000
DTSTAMP:20260425T143752
CREATED:20221124T080724Z
LAST-MODIFIED:20221227T120152Z
UID:59627-1674327600-1674334800@old.avertesagoraja.hu
SUMMARY:Monarchia Operett: 120 perc a Föld körül – Kálmán Imre dallamaival
DESCRIPTION:Zenés utazás az Operettkirály dallamaival\n(Budapest\, Bécs\, Párizs\, Chicago\, Bombay\, Moszkva\, Kolozsvár)\n“Kálmán Imre\, a világ egyik legismertebb magyarjának hihetetlen életművéből válogattuk előadásunk magyaros\, franciás\, oroszos\, amerikai és indiai hangulatot árasztó elemeit. Felhangzanak a jól ismert számok\, a Jaj cica a Te rongyos élet a Hej\, cigány\, valamint a szintén elbűvölő\, de kevésbé ismert dalok\, mint a Szép Chicago a Shopping tercett\, vagy a Dzsaipur csodakertje.” \nA Monarchia Operett humorral\, vidámsággal\, szerelemmel\, romantikával és egyedülálló pompás jelmezvilággal\, látványképpel és különleges effektusokkal invitálja a nézőket e Föld körüli utazásra. Az előadáson felcsendülnek a Csárdáskirálynő\, a Marica grófnő\, a Bajadér\, a Cirkuszhercegnő\, a Chicagói hercegnő\, a Zsuzsi kisasszony\, a Montmartre-i ibolya a Cigányprímás\, az Ördöglovas és a Hollandi menyecske c. operettekből is jól ismert dallamok. \n \nSzereplők:\nÁrvai Dániel | Denk Viktória | Kollár Péter Erik | Frankó Tünde\, Liszt Ferenc- díjas\, Érdemes művész | Gats Éva/ Haraszti Elvira | Kádár Szabolcs János \nKözreműködik:\na Monarchia Operett tánckara és zenekara \nZenei vezető/Karmester:\nKéménczy Antal \nDíszlet:\nRákay Tamás \nJelmez:\nKollár Péter Erik \nRendező:\nKerényi Miklós Gábor\nKossuth-díjas\, Kiváló művész \n \n \nBelépőjegyek A Vértes Agorája jegypénztárában is kaphatók.\nUtalványt\, valamint Cafeteria- és SZÉP Kártyát elfogadunk.\nBővebb információ\n
URL:https://old.avertesagoraja.hu/program/monarchia-operett-120-perc-a-fold-korul-kalman-imre-dallamaival/
LOCATION:A Vértes Agorája\, Szent Borbála tér 1.\, Tatabánya\, 2800\, Magyarország
CATEGORIES:Programkínálat
ATTACH;FMTTYPE=image/png:https://old.avertesagoraja.hu/wp-content/uploads/2022/11/20230121_Monarchia_operett_800x400.png
END:VEVENT
END:VCALENDAR