BEGIN:VCALENDAR
VERSION:2.0
PRODID:-//A Vértes Agoraja - ECPv4.9.13//NONSGML v1.0//EN
CALSCALE:GREGORIAN
METHOD:PUBLISH
X-WR-CALNAME:A Vértes Agoraja
X-ORIGINAL-URL:https://old.avertesagoraja.hu
X-WR-CALDESC:Events for A Vértes Agoraja
BEGIN:VTIMEZONE
TZID:Europe/Paris
BEGIN:DAYLIGHT
TZOFFSETFROM:+0100
TZOFFSETTO:+0200
TZNAME:CEST
DTSTART:20190331T010000
END:DAYLIGHT
BEGIN:STANDARD
TZOFFSETFROM:+0200
TZOFFSETTO:+0100
TZNAME:CET
DTSTART:20191027T010000
END:STANDARD
END:VTIMEZONE
BEGIN:VEVENT
DTSTART;TZID=Europe/Paris:20190405T170000
DTEND;TZID=Europe/Paris:20190405T180000
DTSTAMP:20260426T014138
CREATED:20190206T174552Z
LAST-MODIFIED:20190405T070011Z
UID:42438-1554483600-1554487200@old.avertesagoraja.hu
SUMMARY:Mítosz és valóság - az erényöv titkos történetei
DESCRIPTION:\n“Mítosz és valóság – az erényöv titkos történetei” címmel  az MNM Semmelweis Orvostörténeti Múzeum készített nagy sikerű vándorkiállítást\, amely most a Tatabányai Múzeumban kerül bemutatásra.\n\nAz erényöv használatának eredete a közhiedelem szerint a keresztes háborúk korában\, célja az asszonyi hűség biztosításában keresendő. Ez az elképzelés azonban hamis\, egy 18. századi mítoszon alapul. Ekkor “tudományosították” ugyanis az erényövet\, amit egyre többen készpénznek is vettek. Hamisítványok tucatjai készültek\, amiket lelkesen vásároltak fel a múzeumok. A 19. században bukkant fel újra az erényöv\, és terjedt el oly’ mértékben\, hogy még a divatlapok is hirdették. Használata a 20. század elejéig maradt fenn. \nAz erényöv valódi története sokkal inkább a modern korról szól\, pontosabban arról\, hogy a modern kor a felvilágosodás századaitól kezdve hogyan akarta a középkor kultúráját szemlélni. \nEhhez kapcsolódik “… és mégis\, mi volt a szoknya alatt?” címmel az a tárlat\, amely válogatás a Tatabányai Múzeum viselettörténeti gyűjteményéből. A kiállítás az 1800-as évek végétől az 1960-as évekig követi nyomon a fehérneműdivat változását\, sajátos szemszögből rámutatva a különbségre a polgári és paraszti szépségideál és mentalitás között. \nA kiállítás június 30-ig lesz látogatható a Tatabányai Múzeumban. \n \n \n \n \nA fesztivál fő támogatója a \nBRIDGESTONE\n
URL:https://old.avertesagoraja.hu/program/mitosz-es-valosag/
LOCATION:Tatabányai Múzeum\, Szent Borbála tér 1.\, Tatabánya\, 2800\, Magyarország
CATEGORIES:Programkínálat
ATTACH;FMTTYPE=image/jpeg:https://old.avertesagoraja.hu/wp-content/uploads/2019/02/TTF_2019_800x400_MUZEUM.jpg
END:VEVENT
END:VCALENDAR