BEGIN:VCALENDAR
VERSION:2.0
PRODID:-//A Vértes Agoraja - ECPv4.9.13//NONSGML v1.0//EN
CALSCALE:GREGORIAN
METHOD:PUBLISH
X-WR-CALNAME:A Vértes Agoraja
X-ORIGINAL-URL:https://old.avertesagoraja.hu
X-WR-CALDESC:Events for A Vértes Agoraja
BEGIN:VTIMEZONE
TZID:Europe/Paris
BEGIN:DAYLIGHT
TZOFFSETFROM:+0100
TZOFFSETTO:+0200
TZNAME:CEST
DTSTART:20190331T010000
END:DAYLIGHT
BEGIN:STANDARD
TZOFFSETFROM:+0200
TZOFFSETTO:+0100
TZNAME:CET
DTSTART:20191027T010000
END:STANDARD
END:VTIMEZONE
BEGIN:VEVENT
DTSTART;TZID=Europe/Paris:20190312T130000
DTEND;TZID=Europe/Paris:20190312T143000
DTSTAMP:20260426T030854
CREATED:20190308T112236Z
LAST-MODIFIED:20190308T112236Z
UID:43147-1552395600-1552401000@old.avertesagoraja.hu
SUMMARY:Mélymulcsos kertgazdálkodás
DESCRIPTION:Dr. Gyulai Iván\na Miskolci Ökológiai Intézet igazgatója\nelőadása \n  \nMélymulcsos kertgazdálkodás: \n\nHogy ne kelljen ásni\, kapálni\, gyomlálni\, locsolni\, növényvédő szereket használni\nHogy egészséges és elegendő élelem kerüljön az asztalra\n\nAz előadásból megtudhatja: \n\nHogy kik dolgoznak helyettünk mindezek érdekében?\nHogy miért káros és fölösleges a talaj forgatása?\nHogy mitől gyomos a kertünk?\nHogy védik meg magukat a növények?\n\n  \nA program a NOPLANETB_HU_CN_28 számú A fenntartható\, talajmegújító kertgazdálkodás előmozdítása című projekt keretében valósul meg.\nTámogató: BAPTISTA SZERETETSZOLGÁLAT ALAPÍTVÁNY\n \n
URL:https://old.avertesagoraja.hu/program/melymulcsos-kertgazdalkodas/
LOCATION:A Vértes Agorája\, Szent Borbála tér 1.\, Tatabánya\, 2800\, Magyarország
CATEGORIES:Programkínálat
ATTACH;FMTTYPE=image/jpeg:https://old.avertesagoraja.hu/wp-content/uploads/2019/03/Kert_2019_800x400.jpg
END:VEVENT
END:VCALENDAR