BEGIN:VCALENDAR
VERSION:2.0
PRODID:-//A Vértes Agoraja - ECPv4.9.13//NONSGML v1.0//EN
CALSCALE:GREGORIAN
METHOD:PUBLISH
X-WR-CALNAME:A Vértes Agoraja
X-ORIGINAL-URL:https://old.avertesagoraja.hu
X-WR-CALDESC:Events for A Vértes Agoraja
BEGIN:VTIMEZONE
TZID:Europe/Paris
BEGIN:DAYLIGHT
TZOFFSETFROM:+0100
TZOFFSETTO:+0200
TZNAME:CEST
DTSTART:20180325T010000
END:DAYLIGHT
BEGIN:STANDARD
TZOFFSETFROM:+0200
TZOFFSETTO:+0100
TZNAME:CET
DTSTART:20181028T010000
END:STANDARD
END:VTIMEZONE
BEGIN:VEVENT
DTSTART;TZID=Europe/Paris:20180203T140000
DTEND;TZID=Europe/Paris:20180203T183000
DTSTAMP:20260425T214326
CREATED:20171220T074122Z
LAST-MODIFIED:20180205T073316Z
UID:30693-1517666400-1517682600@old.avertesagoraja.hu
SUMMARY:Mackónap
DESCRIPTION:\n\n	\n\n        20180203_01\n\n        \n\n        \n            \n        \n\n         \n\n        \n\n            \n                \n                    ◄ Előző                \n            \n\n            \n                \n                    Következő                    ►\n                \n            \n\n            \n                Kép                1                 /                76            \n\n            \n                  \n            \n\n        \n    \n\n\nTematikus családi nap\, amelyen minden a bájos mackókról szól.\nProgram – 14:00-18:00\nJáték: \n\n„Mézes futam” pontgyűjtő játék\nmackós játszóház\nTeddy maci kórház a SOTE orvostanhallgatóinak közreműködésével\n\nAlkotási lehetőség: \n\nkészítsd el a saját mackód!\nrajzsarok\nszöszmötölő\n\nKiállítások: \n\nmackó minden mennyiségben\nmackóillusztrációk\nvietnami mackók (fotókiállítás).\n\nMeglepetések: \n\nsok apró\, s egy hatalmas!\n\nMűsor: \n18:00 órától „A mackó házikója” bábelőadás \n  \n
URL:https://old.avertesagoraja.hu/program/mackonap/
LOCATION:A Vértes Agorája\, Szent Borbála tér 1.\, Tatabánya\, 2800\, Magyarország
CATEGORIES:Programkínálat
ATTACH;FMTTYPE=image/jpeg:https://old.avertesagoraja.hu/wp-content/uploads/2017/12/Mackonap_800x400.jpg
END:VEVENT
END:VCALENDAR