BEGIN:VCALENDAR
VERSION:2.0
PRODID:-//A Vértes Agoraja - ECPv4.9.13//NONSGML v1.0//EN
CALSCALE:GREGORIAN
METHOD:PUBLISH
X-WR-CALNAME:A Vértes Agoraja
X-ORIGINAL-URL:https://old.avertesagoraja.hu
X-WR-CALDESC:Events for A Vértes Agoraja
BEGIN:VTIMEZONE
TZID:Europe/Paris
BEGIN:DAYLIGHT
TZOFFSETFROM:+0100
TZOFFSETTO:+0200
TZNAME:CEST
DTSTART:20220327T010000
END:DAYLIGHT
BEGIN:STANDARD
TZOFFSETFROM:+0200
TZOFFSETTO:+0100
TZNAME:CET
DTSTART:20221030T010000
END:STANDARD
END:VTIMEZONE
BEGIN:VEVENT
DTSTART;TZID=Europe/Paris:20220307T180000
DTEND;TZID=Europe/Paris:20220307T200000
DTSTAMP:20260425T232740
CREATED:20220120T161143Z
LAST-MODIFIED:20220125T145121Z
UID:57521-1646676000-1646683200@old.avertesagoraja.hu
SUMMARY:A Kortárs Galéria bemutatja... Loving Vincent
DESCRIPTION:[vc_row][vc_column][vc_column_text]A tatabányai Kortárs Galéria ismét művészfilmmel tágítja a vizuális horizontot\, és invitálja állandó látogatóit\, valamint az unikális filmélményt kereső közönséget a Loving Vincent című – álomszerű\, szürreális és magával ragadó – animációs mozira.[/vc_column_text][/vc_column][/vc_row][vc_row][vc_column][vc_column_text] \n\nLoving Vincent\n\n angol-lengyel animációs film | 95 perc | 2017\n12 éven aluliak számára a megtekintése nagykorú felügyelete mellett ajánlott\nA Loving Vincent című animációs életrajzi drámában a történetmesélést egészen egyedi látványvilág szolgálja. A film mintegy 65000(!) képkockáját – még az élő szereplőkkel leforgatott részeket is – festőművészek alkották: olajjal\, vászonra\, azt az illúziót keltve\, mintha maga Van Gogh festette volna. A cselekmény teljes egészében az ő festői univerzumában zajlik: a helyszínek\, a karakterek\, a motívumok\, a színvilág\, s a védjegyként működő ecsetvonás\, valamit a történet alapját képező tények.  \nA számos mentális betegséggel küzdő\, tragikus sorsú festőművészt alkotásai halhatatlanná tették. Neve említésekor a Csillagos éj és a Napraforgók című festmény biztosan megjelenik mindenki lelki szemei előtt\, ahogy a levágott fül históriáját és azt a fájdalmast tényt is társítjuk vele\, hogy életében csupán egyetlen képet tudott eladni.  \n[/vc_column_text][/vc_column][/vc_row][vc_row][vc_column width=”1/2″][vc_column_text] \nSzereplők\n\n\n\nRobert Gulaczyk Vincent Van Gogh\n\n\nHelen McCrory Louise Chevalier\n\n\nJerome Flynn Dr. Gachet\n\n\nSaoirse Ronan Marguerite Gachet\n\n\n\n[/vc_column_text][/vc_column][vc_column width=”1/2″][vc_column_text] \nAlkotók\nRendező\nDorota Kobiela Hugh Welchman\nForgatókönyv\nJacek Dehnel \nDorota Kobiela Hugh Welchman\nOperatőr\nTristan Oliver Lukasz Zal\nZene Clint Mansell\nVágó Dorota Kobiela\n [/vc_column_text][/vc_column][/vc_row][vc_row][vc_column][vc_column_text] \n\nA vetítés A Vértes Agorájában lesz. A helyfoglalás az érkezés sorrendjében történik\, a nagyterem befogadóképességéig.\nAz épületben kötelező a védőmaszk használata.\nA program ingyenes és védettségi igazolvány nélkül látogatható.\n[/vc_column_text][/vc_column][/vc_row][vc_row][vc_column][vc_column_text][/vc_column_text][/vc_column][/vc_row] \n
URL:https://old.avertesagoraja.hu/program/loving-vincent/
LOCATION:A Vértes Agorája\, Szent Borbála tér 1.\, Tatabánya\, 2800\, Magyarország
CATEGORIES:Kortárs Galéria,Programkínálat
ATTACH;FMTTYPE=image/png:https://old.avertesagoraja.hu/wp-content/uploads/2022/01/20220307_VanGogh_800x400.png
END:VEVENT
END:VCALENDAR