BEGIN:VCALENDAR
VERSION:2.0
PRODID:-//A Vértes Agoraja - ECPv4.9.13//NONSGML v1.0//EN
CALSCALE:GREGORIAN
METHOD:PUBLISH
X-WR-CALNAME:A Vértes Agoraja
X-ORIGINAL-URL:https://old.avertesagoraja.hu
X-WR-CALDESC:Events for A Vértes Agoraja
BEGIN:VTIMEZONE
TZID:Europe/Paris
BEGIN:DAYLIGHT
TZOFFSETFROM:+0100
TZOFFSETTO:+0200
TZNAME:CEST
DTSTART:20190331T010000
END:DAYLIGHT
BEGIN:STANDARD
TZOFFSETFROM:+0200
TZOFFSETTO:+0100
TZNAME:CET
DTSTART:20191027T010000
END:STANDARD
END:VTIMEZONE
BEGIN:VEVENT
DTSTART;TZID=Europe/Paris:20191214T183000
DTEND;TZID=Europe/Paris:20191214T210000
DTSTAMP:20260425T174531
CREATED:20191105T090723Z
LAST-MODIFIED:20191216T105751Z
UID:48002-1576348200-1576357200@old.avertesagoraja.hu
SUMMARY:Légy jó mindhalálig (musical)
DESCRIPTION:\n\n\n    	\n        [Diavetítés indítása]\n		\n	\n			\n				\n				        \n            \n                \n            \n        \n							 \n			\n        \n				\n				        \n            \n                \n            \n        \n							 \n			\n        \n				\n				        \n            \n                \n            \n        \n							 \n			\n        \n				\n				        \n            \n                \n            \n        \n							 \n			\n        \n				\n				        \n            \n                \n            \n        \n							 \n			\n        \n				\n				        \n            \n                \n            \n        \n							 \n			\n        \n				\n				        \n            \n                \n            \n        \n							 \n			\n        \n				\n				        \n            \n                \n            \n        \n							 \n			\n        \n				\n				        \n            \n                \n            \n        \n							 \n			\n        \n				\n				        \n            \n                \n            \n        \n							 \n			\n        \n				\n				        \n            \n                \n            \n        \n							 \n			\n        \n				\n				        \n            \n                \n            \n        \n							 \n			\n        \n				\n				        \n            \n                \n            \n        \n							 \n			\n        \n				\n				        \n            \n                \n            \n        \n							 \n			\n        \n				\n				        \n            \n                \n            \n        \n							 \n			\n        \n				\n				        \n            \n                \n            \n        \n							 \n			\n        \n				\n				        \n            \n                \n            \n        \n							 \n			\n        \n				\n				        \n            \n                \n            \n        \n							 \n			\n        \n				\n				        \n            \n                \n            \n        \n							 \n			\n        \n				\n				        \n            \n                \n            \n        \n							 \n			\n        \n				\n				        \n            \n                \n            \n        \n							 \n			\n        \n				\n				        \n            \n                \n            \n        \n							 \n			\n        \n				\n				        \n            \n                \n            \n        \n							 \n			\n        \n				\n				        \n            \n                \n            \n        \n							 \n			\n        \n				\n				        \n            \n                \n            \n        \n							 \n			\n        \n				\n				        \n            \n                \n            \n        \n							 \n			\n        \n				\n				        \n            \n                \n            \n        \n							 \n			\n        \n				\n				        \n            \n                \n            \n        \n							 \n			\n        \n				\n				        \n            \n                \n            \n        \n							 \n			\n        \n				\n				        \n            \n                \n            \n        \n							 \n			\n        \n				\n				        \n            \n                \n            \n        \n							 \n			\n        \n				\n				        \n            \n                \n            \n        \n							 \n			\n        \n				\n				        \n            \n                \n            \n        \n							 \n			\n        \n				\n				        \n            \n                \n            \n        \n							 \n			\n        \n				\n				        \n            \n                \n            \n        \n							 \n			\n        \n				\n				        \n            \n                \n            \n        \n							 \n			\n        \n				\n				        \n            \n                \n            \n        \n							 \n			\n        \n				\n				        \n            \n                \n            \n        \n							 \n			\n        \n				\n				        \n            \n                \n            \n        \n							 \n			\n        \n				\n				        \n            \n                \n            \n        \n							 \n			\n        \n				\n				        \n            \n                \n            \n        \n							 \n			\n        \n				\n				        \n            \n                \n            \n        \n							 \n			\n        \n		\n		\n	1234404142►	\n\n  \n  JEGYINFORMÁCIÓ:\ndallamalapitvany@gmail.com \nMóricz Zsigmond örökérvényű művét zenés darab formájában állította színpadra a Dallam Junior Musical. Az emberi tartásról\, a szeretetről és a hitről szóló történetet ez a feldolgozás közelebb vitte a gyerekekhez\, s talán a felnőttekhez is. A megvalósításban résztvevő fiatalok láthatóan igazi közösséggé formálódtak. Olyanná\, amelynek tagjai odafigyelnek egymásra\, őszintén örülnek egymás sikerének\, támogatják azt\, akinek erre van szüksége. S ennek a közösségnek volt egy azonos irányba ható közös akarata: létrehozni valamit\, amiben örömüket lelik\, s amivel másoknak is örömet szerezhetnek. A Vértes Agorájában – imponáló fegyelmezettséget és kitartást tanúsítva – júniusban és októberben két-két alkalommal\, telt ház előtt bizonyították\, hogy ez sikerült. \nTekintettel a nem szűnő érdeklődésre\, decemberben újabb két előadás várja a közönséget.\n \nMóricz Zsigmond – Kocsák Tibor – Miklós Tibor\nLÉGY JÓ MINDHALÁLIG\nmusical \nAz átkötő jeleneteket írta Pinczés István \n Móricz Zsigmond örökérvényű műve az emberi tartásról\, a szeretetről és a hitről mesél. Nyilas Misi\, a falusi kisdiák magányosan\, barátok nélkül tölti iskolaéveit a híres debreceni kollégiumban\, ahol társai rendre gúnyolják és megalázzák. Ebben a zord\, szeretet nélküli világban egyetlen barátja Pósalaky úr\, a nyugalmazott tanácsos. Egy nap Misi Pósalaky úr kérésére megteszi a lutrin az öregúr által megálmodott számokat\, amivel nyernek\, de a reskontó elvész… Misi nagy bajba kerül: a tanári kar lopással vádolja\, s hiába derül ki az igazság\, ő nem akar többé debreceni diák lenni… \nALKOTÓK \nRendező: Schmidt Magolna \nMűvészeti vezető: Ludányiné Sárai Ágnes\nZenei munkatárs: Szeimann Zsuzsanna\nDíszlet: Nagy Ildikó – Balogh Csilla\nKoreográfus: Csáky Mária\nTánc asszisztens: Kaszab Laura\nSzínpadmester: Kun Dominik\nHegedű – Laskay Zsoltné \nSzereposztás: \nNyilas Misi – Hetzl Eszter / Stréhli Vivien\nValkay tanár úr – dr. Kis József\nGyéres tanár úr – Szabó Zsombor\nRendőr – Kun Dominik\nSarkadi tanár úr – Garami Róbert / Könyves Norbert\nBagoly tanár úr – Molnár Mihály / Eck Balázs\nIgazgató – Domonkos László\nIstván bácsi\, pedellus – Kaszás József\nPósalaky úr – Ökrös István\nDoroghy Bella – Máté Miriam\nDoroghy Viola – Horváth Mónika / Nagy Ildikó\nDoroghyné – Bakony Dóra\nTörök bácsi – Jónási Zsolt\nTörök néni – Wicha Judit\nTörök János – Lingura Tibor\nTörök Ilona – Lingura Diana\nGazdasszony – Balogh Csilla\nSanyika – Balogh Adrienn / Bonnár Hanna\nNagy úr – Kiss Krisztofer\nLisznyai úr – Kiss Krisztofer\nBöszörményi – Lencz Balázs\nGimesi – Bauer Kristóf Levente\nCsicsó – Ferling Gyula\nSándor – Csánó Zsanett / Földi Lili\nSzegedi – Nagy Henrietta\nOrczy – Börcsök Dániel / Kun Dániel\nAndrássy – Fülöp Kamilla\nTannenbaum – Presser Gábor\nTök Marci – Baller Petra\nLutri árus lány – Tóvári Napsugár  \nAz előadás a Dallam Junior Musical – Zenés „Színház az egész Világ” című projekt keretében valósul meg.\n \nBelépőjegyek A Vértes Agorája jegypénztárában is kaphatók.\nUtalványt\, valamint Cafeteria- és SZÉP Kártyát erre a rendezvényre elfogadunk.\nBővebb információ\n
URL:https://old.avertesagoraja.hu/program/legy-jo-mindhalalig-musical-6/
LOCATION:A Vértes Agorája\, Szent Borbála tér 1.\, Tatabánya\, 2800\, Magyarország
CATEGORIES:Programkínálat
ATTACH;FMTTYPE=image/jpeg:https://old.avertesagoraja.hu/wp-content/uploads/2019/11/Legyjo_2019_800x400_DEC.jpg
END:VEVENT
END:VCALENDAR