BEGIN:VCALENDAR
VERSION:2.0
PRODID:-//A Vértes Agoraja - ECPv4.9.13//NONSGML v1.0//EN
CALSCALE:GREGORIAN
METHOD:PUBLISH
X-WR-CALNAME:A Vértes Agoraja
X-ORIGINAL-URL:https://old.avertesagoraja.hu
X-WR-CALDESC:Events for A Vértes Agoraja
BEGIN:VTIMEZONE
TZID:Europe/Paris
BEGIN:DAYLIGHT
TZOFFSETFROM:+0100
TZOFFSETTO:+0200
TZNAME:CEST
DTSTART:20190331T010000
END:DAYLIGHT
BEGIN:STANDARD
TZOFFSETFROM:+0200
TZOFFSETTO:+0100
TZNAME:CET
DTSTART:20191027T010000
END:STANDARD
END:VTIMEZONE
BEGIN:VEVENT
DTSTART;TZID=Europe/Paris:20190215T190000
DTEND;TZID=Europe/Paris:20190215T203000
DTSTAMP:20260425T213400
CREATED:20181218T064958Z
LAST-MODIFIED:20190220T063243Z
UID:41165-1550257200-1550262600@old.avertesagoraja.hu
SUMMARY:L'art pour l'art | Mintha elvágták vol
DESCRIPTION:\n\n	\n\n        20190215_01\n\n        \n\n        \n            \n        \n\n         \n\n        \n\n            \n                \n                    ◄ Előző                \n            \n\n            \n                \n                    Következő                    ►\n                \n            \n\n            \n                Kép                1                 /                15            \n\n            \n                  \n            \n\n        \n    \n\n\nTudta ön\, hogy a jelen a jövő múltja és a múlt jövője?\nVegyük pl.\, a Mintha elvágták vol című előadást!\nAmikor ön a jegyét megvette rá\, akkor az a jelen volt\, az előadás viszont a jövőben zajlott majd.\nAmikor az elkövetkezendő jelenben az előadást nézi\, a jegyvétel lesz a múlt\, az előadás utáni rész pedig a jövő.\nIgen ám\, de mi történik a jegyvétel alatt\, az előadás közben\, illetve a mindkettő után következő időintervallumban?\nA jegyvásárlás alatt a „Jó napot! A Mintha elvágták vol című előadásra kérek egy jegyet\, amibe a Társulat elmúlt és elkövetkezendő 30 évének legjobb jelenetei kerültek\, beleértve a kezdeteket” szöveg\, a kimondása előtt a jövőben fog elhangozni\, az elhangzás pillanatában a jelenben\, utána meg a múltban\, viszont\, ha betűnként vesszük a szöveget\, akkor a „m” elhangzásakor az „intha elvágták vol” lesz a jövő\, aztán\, az „i” kimondásakor a „ntha elvágták vol”\, a „m” viszont múlt lesz\, immár megváltoztathatatlanul\, mivel a múltba utólag nem tudunk belepiszkálni.\nA jövő megváltoztatásának lehetősége ugyan rendelkezésünkre áll\, de mi értelme lenne\, ha az „i” betű elhangzása után úgy folytatnánk\, hogy „nhatvelágkátolvműmícelaőrasáderkékyegtegyej…”- vagy\, – és ez már valóban újító szellemre vall-\, úgy\, hogy „krhznaldjfzkeb”.\nPersze\, nem muszáj betűnkre bontani\, aki igazán elszánt\, az a kvantumokat is kipróbálhatja. \nForrás: jegy.hu\n \nBelépőjegyek A Vértes Agorája jegypénztárában is kaphatók.\nUtalványt\, valamint Cafeteria- és SZÉP Kártyát erre a rendezvényre nem áll módunkban elfogadni.\nBővebb információ\n
URL:https://old.avertesagoraja.hu/program/lart-pour-lart-mintha-elvagtal-vol/
LOCATION:A Vértes Agorája\, Szent Borbála tér 1.\, Tatabánya\, 2800\, Magyarország
CATEGORIES:Programkínálat
ATTACH;FMTTYPE=image/jpeg:https://old.avertesagoraja.hu/wp-content/uploads/2018/12/Lart_2019_800x400_UJ.jpg
END:VEVENT
END:VCALENDAR