BEGIN:VCALENDAR
VERSION:2.0
PRODID:-//A Vértes Agoraja - ECPv4.9.13//NONSGML v1.0//EN
CALSCALE:GREGORIAN
METHOD:PUBLISH
X-WR-CALNAME:A Vértes Agoraja
X-ORIGINAL-URL:https://old.avertesagoraja.hu
X-WR-CALDESC:Events for A Vértes Agoraja
BEGIN:VTIMEZONE
TZID:Europe/Helsinki
BEGIN:DAYLIGHT
TZOFFSETFROM:+0200
TZOFFSETTO:+0300
TZNAME:EEST
DTSTART:20220327T010000
END:DAYLIGHT
BEGIN:STANDARD
TZOFFSETFROM:+0300
TZOFFSETTO:+0200
TZNAME:EET
DTSTART:20221030T010000
END:STANDARD
END:VTIMEZONE
BEGIN:VEVENT
DTSTART;TZID=Europe/Helsinki:20220313T190000
DTEND;TZID=Europe/Helsinki:20220313T210000
DTSTAMP:20260425T234331
CREATED:20220222T132039Z
LAST-MODIFIED:20220225T103655Z
UID:57850-1647198000-1647205200@old.avertesagoraja.hu
SUMMARY:Kowalsky meg a Vega | Esszencia
DESCRIPTION:Belépőjegyek\n  \nA Kowalsky meg a Vega 20 éves fennállását jubileumi koncertturnéval ünnepli. Ennek egyik állomása Tatabánya. \n \nA belépőjegyek ára egységesen 5.000 Ft\, s online kaphatók.\nA helyfolgalás az érkezés sorrendjében történik.\nAz együttes eredetileg április 9-ére a Roxxy Music Café-ba hirdette a koncertet. Az arra vásárolt belépőjegyek érvényesek március 11-én\, A Vértes Agorájában.\n\nUtalványt\, valamint Cafeteria- és SZÉP Kártyát elfogadunk.\nBővebb információ\n\n \n \n
URL:https://old.avertesagoraja.hu/program/kowalsky-meg-a-vega/
LOCATION:A Vértes Agorája\, Szent Borbála tér 1.\, Tatabánya\, 2800\, Magyarország
CATEGORIES:Befogadott rendezvény,Programkínálat
ATTACH;FMTTYPE=image/png:https://old.avertesagoraja.hu/wp-content/uploads/2022/02/20220313_800x400_Kowalsky.png
END:VEVENT
END:VCALENDAR