BEGIN:VCALENDAR
VERSION:2.0
PRODID:-//A Vértes Agoraja - ECPv4.9.13//NONSGML v1.0//EN
CALSCALE:GREGORIAN
METHOD:PUBLISH
X-WR-CALNAME:A Vértes Agoraja
X-ORIGINAL-URL:https://old.avertesagoraja.hu
X-WR-CALDESC:Events for A Vértes Agoraja
BEGIN:VTIMEZONE
TZID:Europe/Helsinki
BEGIN:DAYLIGHT
TZOFFSETFROM:+0200
TZOFFSETTO:+0300
TZNAME:EEST
DTSTART:20220327T010000
END:DAYLIGHT
BEGIN:STANDARD
TZOFFSETFROM:+0300
TZOFFSETTO:+0200
TZNAME:EET
DTSTART:20221030T010000
END:STANDARD
END:VTIMEZONE
BEGIN:VEVENT
DTSTART;TZID=Europe/Helsinki:20220826T180000
DTEND;TZID=Europe/Helsinki:20220826T193000
DTSTAMP:20260426T002437
CREATED:20220602T110556Z
LAST-MODIFIED:20220602T110556Z
UID:58467-1661536800-1661542200@old.avertesagoraja.hu
SUMMARY:Magidom | Könnyű neked... 3.
DESCRIPTION:A Vértes Agorája ismét jelentkezik igényes (könnyű)zenei sorozatával. A Könnyű neked… elnevezésű mezítlábas\, fűben ülős\, fiatalos nyári szórakoztató program helyszíne Tatabánya oázisa\, a Csónakázó-tó. \nA sorozat fináléjában a Magidom lép színadra. Hivatalos Facebook oldalukon olyan szellemesen mutatkoznak be\, hogy ennek vágatlan verziójával ajánljuk őket a közönség figyelmébe: \nA magidom – térgeometriai fogalom. Azon támadáspontok mértani helye\, amelyeken ható F erő esetén a keresztmetszeten csak egyféle előjelű feszültségek keletkeznek. A Magidom – zenekar. Öt idom alkotta\, gitáralapú pop-rock formáció. A Magidom zenekar nem sokat tud a térgeometriáról. De a feszültségre – előjeltől függetlenül – érzékeny. Tapasztalja. És oldani igyekszik… \n\n\n\n\n \n\n\n\n\n\n\n\n\n \n \n
URL:https://old.avertesagoraja.hu/program/konnyu-neked-2022-3/
LOCATION:Csónakázó-tó\, Tatabánya\, Komárom-Esztergom\, 2800\, Magyarország
CATEGORIES:Programkínálat,Saját szervezésű rendezvény
ATTACH;FMTTYPE=image/png:https://old.avertesagoraja.hu/wp-content/uploads/2022/06/800x400_konnyu_neked_fellepok_2022_Magidom.png
END:VEVENT
END:VCALENDAR