BEGIN:VCALENDAR
VERSION:2.0
PRODID:-//A Vértes Agoraja - ECPv4.9.13//NONSGML v1.0//EN
CALSCALE:GREGORIAN
METHOD:PUBLISH
X-WR-CALNAME:A Vértes Agoraja
X-ORIGINAL-URL:https://old.avertesagoraja.hu
X-WR-CALDESC:Events for A Vértes Agoraja
BEGIN:VTIMEZONE
TZID:Europe/Paris
BEGIN:DAYLIGHT
TZOFFSETFROM:+0100
TZOFFSETTO:+0200
TZNAME:CEST
DTSTART:20210328T010000
END:DAYLIGHT
BEGIN:STANDARD
TZOFFSETFROM:+0200
TZOFFSETTO:+0100
TZNAME:CET
DTSTART:20211031T010000
END:STANDARD
END:VTIMEZONE
BEGIN:VEVENT
DTSTART;TZID=Europe/Paris:20210721T180000
DTEND;TZID=Europe/Paris:20210721T193000
DTSTAMP:20260425T174631
CREATED:20210528T124535Z
LAST-MODIFIED:20210714T064642Z
UID:54102-1626890400-1626895800@old.avertesagoraja.hu
SUMMARY:Petruska - EgySzemélyes | Könnyű neked... 2.
DESCRIPTION:Új zenei sorozat a Csónakázó-tónál\nA Vértes Agorája új\, igényes (könnyű)zenei sorozatot indít. A Könnyű neked… elnevezésű mezítlábas\, fűben ülős\, fiatalos nyári szórakoztató program helyszíne Tatabánya oázisa\, a Csónakázó-tó. \nPetruska András\, dalszerző-énekes az igényes könnyűzene népszerű hazai képviselője. Szuggesztív\, közvetlen hangvételű előadásmódjával\, tartalmas dalaival meghatározó szereplője a hazai fiatal zenészgenerációnak. Több szerzeményét is játszotta rotációban a Petőfi Rádió\, s rendszeres résztvevője – 2016-ban pedig különdíjasa – A Dal című zenei vetélkedőnek.  \nAzon ritka\, sokoldalú előadók közé tartozik\, akiknek dalai egyaránt állják meg a helyüket a nagy nyári fesztiválokon\, valamint a világzenei\, jazz vagy irodalmi színtéren is. \n \n \nKét szabadtéri zenés sorozatunk – a Könnyű neked… és az Agora Zenei Esték – a hatályos jogszabályok szerint zenés-táncos rendezvények minősül\, s mint ilyen\, a látogatása védettségi igazolványhoz kötött. Ez a gyakorlatban annyit jelent\, hogy mind a Csónakázó-tónál\, mind pedig a Zenepavilon előtt a színpadokkal szemben kialakítunk egy-egy kordonnal körülhatárolt részt\, s ezekre a területekre csak azokat engedhetjük be\, akik rendelkeznek védettségi igazolvánnyal. A kordonon kívüli részen bárki tartózkodhat.\n
URL:https://old.avertesagoraja.hu/program/konnyu-neked-2021-2/
LOCATION:Csónakázó-tó\, Tatabánya\, Komárom-Esztergom\, 2800\, Magyarország
CATEGORIES:Programkínálat,Saját szervezésű rendezvény
ATTACH;FMTTYPE=image/png:https://old.avertesagoraja.hu/wp-content/uploads/2021/05/800x400_konnyu_neked_fellepok_Petruska.png
END:VEVENT
END:VCALENDAR